BEGIN:VCALENDAR
VERSION:2.0
PRODID:-//The Bowery - ECPv6.15.20//NONSGML v1.0//EN
CALSCALE:GREGORIAN
METHOD:PUBLISH
X-ORIGINAL-URL:https://thebowery.com
X-WR-CALDESC:Events for The Bowery
REFRESH-INTERVAL;VALUE=DURATION:PT1H
X-Robots-Tag:noindex
X-PUBLISHED-TTL:PT1H
BEGIN:VTIMEZONE
TZID:America/New_York
BEGIN:DAYLIGHT
TZOFFSETFROM:-0500
TZOFFSETTO:-0400
TZNAME:EDT
DTSTART:20240310T070000
END:DAYLIGHT
BEGIN:STANDARD
TZOFFSETFROM:-0400
TZOFFSETTO:-0500
TZNAME:EST
DTSTART:20241103T060000
END:STANDARD
BEGIN:DAYLIGHT
TZOFFSETFROM:-0500
TZOFFSETTO:-0400
TZNAME:EDT
DTSTART:20250309T070000
END:DAYLIGHT
BEGIN:STANDARD
TZOFFSETFROM:-0400
TZOFFSETTO:-0500
TZNAME:EST
DTSTART:20251102T060000
END:STANDARD
BEGIN:DAYLIGHT
TZOFFSETFROM:-0500
TZOFFSETTO:-0400
TZNAME:EDT
DTSTART:20260308T070000
END:DAYLIGHT
BEGIN:STANDARD
TZOFFSETFROM:-0400
TZOFFSETTO:-0500
TZNAME:EST
DTSTART:20261101T060000
END:STANDARD
END:VTIMEZONE
BEGIN:VEVENT
DTSTART;TZID=America/New_York:20250511T203000
DTEND;TZID=America/New_York:20250512T013000
DTSTAMP:20260420T105226
CREATED:20250511T201009Z
LAST-MODIFIED:20250511T202141Z
UID:10001821-1746995400-1747013400@thebowery.com
SUMMARY:Maddie Rean
DESCRIPTION:
URL:https://thebowery.com/event/maddie-rean-3/
LOCATION:The Bowery\, 110 9th Ave N\, Myrtle Beach\, 29577\, United States
ATTACH;FMTTYPE=image/jpeg:https://thebowery.com/wp-content/uploads/2025/05/326533838_1835073793532392_2500164365262918510_n-e1746994886744.jpg
END:VEVENT
BEGIN:VEVENT
DTSTART;TZID=America/New_York:20250512T203000
DTEND;TZID=America/New_York:20250512T203000
DTSTAMP:20260420T105226
CREATED:20250306T213550Z
LAST-MODIFIED:20251010T060459Z
UID:10001694-1747081800-1747081800@thebowery.com
SUMMARY:The Bounty Hunters
DESCRIPTION:
URL:https://thebowery.com/event/the-bounty-hunters-5-2/2025-05-12/
LOCATION:The Bowery\, 110 9th Ave N\, Myrtle Beach\, 29577\, United States
ATTACH;FMTTYPE=image/jpeg:https://thebowery.com/wp-content/uploads/2024/10/BH-PROMO-6-scaled.jpg
END:VEVENT
BEGIN:VEVENT
DTSTART;TZID=America/New_York:20250513T203000
DTEND;TZID=America/New_York:20250513T203000
DTSTAMP:20260420T105226
CREATED:20250306T213550Z
LAST-MODIFIED:20251010T060459Z
UID:10001695-1747168200-1747168200@thebowery.com
SUMMARY:The Bounty Hunters
DESCRIPTION:
URL:https://thebowery.com/event/the-bounty-hunters-5-2/2025-05-13/
LOCATION:The Bowery\, 110 9th Ave N\, Myrtle Beach\, 29577\, United States
ATTACH;FMTTYPE=image/jpeg:https://thebowery.com/wp-content/uploads/2024/10/BH-PROMO-6-scaled.jpg
END:VEVENT
BEGIN:VEVENT
DTSTART;TZID=America/New_York:20250514T203000
DTEND;TZID=America/New_York:20250514T203000
DTSTAMP:20260420T105226
CREATED:20250306T213550Z
LAST-MODIFIED:20251010T060459Z
UID:10001696-1747254600-1747254600@thebowery.com
SUMMARY:The Bounty Hunters
DESCRIPTION:
URL:https://thebowery.com/event/the-bounty-hunters-5-2/2025-05-14/
LOCATION:The Bowery\, 110 9th Ave N\, Myrtle Beach\, 29577\, United States
ATTACH;FMTTYPE=image/jpeg:https://thebowery.com/wp-content/uploads/2024/10/BH-PROMO-6-scaled.jpg
END:VEVENT
BEGIN:VEVENT
DTSTART;TZID=America/New_York:20250515T203000
DTEND;TZID=America/New_York:20250515T203000
DTSTAMP:20260420T105226
CREATED:20250306T213550Z
LAST-MODIFIED:20251010T060459Z
UID:10001697-1747341000-1747341000@thebowery.com
SUMMARY:The Bounty Hunters
DESCRIPTION:
URL:https://thebowery.com/event/the-bounty-hunters-5-2/2025-05-15/
LOCATION:The Bowery\, 110 9th Ave N\, Myrtle Beach\, 29577\, United States
ATTACH;FMTTYPE=image/jpeg:https://thebowery.com/wp-content/uploads/2024/10/BH-PROMO-6-scaled.jpg
END:VEVENT
BEGIN:VEVENT
DTSTART;TZID=America/New_York:20250516T203000
DTEND;TZID=America/New_York:20250516T203000
DTSTAMP:20260420T105226
CREATED:20250306T213550Z
LAST-MODIFIED:20251010T060459Z
UID:10001698-1747427400-1747427400@thebowery.com
SUMMARY:The Bounty Hunters
DESCRIPTION:
URL:https://thebowery.com/event/the-bounty-hunters-5-2/2025-05-16/
LOCATION:The Bowery\, 110 9th Ave N\, Myrtle Beach\, 29577\, United States
ATTACH;FMTTYPE=image/jpeg:https://thebowery.com/wp-content/uploads/2024/10/BH-PROMO-6-scaled.jpg
END:VEVENT
BEGIN:VEVENT
DTSTART;TZID=America/New_York:20250517T203000
DTEND;TZID=America/New_York:20250517T203000
DTSTAMP:20260420T105226
CREATED:20250306T213550Z
LAST-MODIFIED:20251010T060459Z
UID:10001699-1747513800-1747513800@thebowery.com
SUMMARY:The Bounty Hunters
DESCRIPTION:
URL:https://thebowery.com/event/the-bounty-hunters-5-2/2025-05-17/
LOCATION:The Bowery\, 110 9th Ave N\, Myrtle Beach\, 29577\, United States
ATTACH;FMTTYPE=image/jpeg:https://thebowery.com/wp-content/uploads/2024/10/BH-PROMO-6-scaled.jpg
END:VEVENT
BEGIN:VEVENT
DTSTART;TZID=America/New_York:20250518T203000
DTEND;TZID=America/New_York:20250518T203000
DTSTAMP:20260420T105226
CREATED:20250511T201049Z
LAST-MODIFIED:20250511T201726Z
UID:10001822-1747600200-1747600200@thebowery.com
SUMMARY:Dalton Hicks
DESCRIPTION:
URL:https://thebowery.com/event/dalton-hicks-2/
LOCATION:The Bowery\, 110 9th Ave N\, Myrtle Beach\, 29577\, United States
END:VEVENT
END:VCALENDAR