BEGIN:VCALENDAR
VERSION:2.0
PRODID:-//The Bowery - ECPv6.15.20//NONSGML v1.0//EN
CALSCALE:GREGORIAN
METHOD:PUBLISH
X-ORIGINAL-URL:https://thebowery.com
X-WR-CALDESC:Events for The Bowery
REFRESH-INTERVAL;VALUE=DURATION:PT1H
X-Robots-Tag:noindex
X-PUBLISHED-TTL:PT1H
BEGIN:VTIMEZONE
TZID:America/New_York
BEGIN:DAYLIGHT
TZOFFSETFROM:-0500
TZOFFSETTO:-0400
TZNAME:EDT
DTSTART:20240310T070000
END:DAYLIGHT
BEGIN:STANDARD
TZOFFSETFROM:-0400
TZOFFSETTO:-0500
TZNAME:EST
DTSTART:20241103T060000
END:STANDARD
BEGIN:DAYLIGHT
TZOFFSETFROM:-0500
TZOFFSETTO:-0400
TZNAME:EDT
DTSTART:20250309T070000
END:DAYLIGHT
BEGIN:STANDARD
TZOFFSETFROM:-0400
TZOFFSETTO:-0500
TZNAME:EST
DTSTART:20251102T060000
END:STANDARD
BEGIN:DAYLIGHT
TZOFFSETFROM:-0500
TZOFFSETTO:-0400
TZNAME:EDT
DTSTART:20260308T070000
END:DAYLIGHT
BEGIN:STANDARD
TZOFFSETFROM:-0400
TZOFFSETTO:-0500
TZNAME:EST
DTSTART:20261101T060000
END:STANDARD
END:VTIMEZONE
BEGIN:VEVENT
DTSTART;TZID=America/New_York:20250505T203000
DTEND;TZID=America/New_York:20250505T203000
DTSTAMP:20260418T213130
CREATED:20250306T213550Z
LAST-MODIFIED:20251010T060459Z
UID:10001688-1746477000-1746477000@thebowery.com
SUMMARY:The Bounty Hunters
DESCRIPTION:
URL:https://thebowery.com/event/the-bounty-hunters-5-2/2025-05-05/
LOCATION:The Bowery\, 110 9th Ave N\, Myrtle Beach\, 29577\, United States
ATTACH;FMTTYPE=image/jpeg:https://thebowery.com/wp-content/uploads/2024/10/BH-PROMO-6-scaled.jpg
END:VEVENT
BEGIN:VEVENT
DTSTART;TZID=America/New_York:20250506T203000
DTEND;TZID=America/New_York:20250506T203000
DTSTAMP:20260418T213130
CREATED:20250306T213550Z
LAST-MODIFIED:20251010T060459Z
UID:10001689-1746563400-1746563400@thebowery.com
SUMMARY:The Bounty Hunters
DESCRIPTION:
URL:https://thebowery.com/event/the-bounty-hunters-5-2/2025-05-06/
LOCATION:The Bowery\, 110 9th Ave N\, Myrtle Beach\, 29577\, United States
ATTACH;FMTTYPE=image/jpeg:https://thebowery.com/wp-content/uploads/2024/10/BH-PROMO-6-scaled.jpg
END:VEVENT
BEGIN:VEVENT
DTSTART;TZID=America/New_York:20250507T203000
DTEND;TZID=America/New_York:20250507T203000
DTSTAMP:20260418T213130
CREATED:20250306T213550Z
LAST-MODIFIED:20251010T060459Z
UID:10001690-1746649800-1746649800@thebowery.com
SUMMARY:The Bounty Hunters
DESCRIPTION:
URL:https://thebowery.com/event/the-bounty-hunters-5-2/2025-05-07/
LOCATION:The Bowery\, 110 9th Ave N\, Myrtle Beach\, 29577\, United States
ATTACH;FMTTYPE=image/jpeg:https://thebowery.com/wp-content/uploads/2024/10/BH-PROMO-6-scaled.jpg
END:VEVENT
BEGIN:VEVENT
DTSTART;TZID=America/New_York:20250508T203000
DTEND;TZID=America/New_York:20250508T203000
DTSTAMP:20260418T213130
CREATED:20250306T213550Z
LAST-MODIFIED:20251010T060459Z
UID:10001691-1746736200-1746736200@thebowery.com
SUMMARY:The Bounty Hunters
DESCRIPTION:
URL:https://thebowery.com/event/the-bounty-hunters-5-2/2025-05-08/
LOCATION:The Bowery\, 110 9th Ave N\, Myrtle Beach\, 29577\, United States
ATTACH;FMTTYPE=image/jpeg:https://thebowery.com/wp-content/uploads/2024/10/BH-PROMO-6-scaled.jpg
END:VEVENT
BEGIN:VEVENT
DTSTART;TZID=America/New_York:20250509T203000
DTEND;TZID=America/New_York:20250509T203000
DTSTAMP:20260418T213130
CREATED:20250306T213550Z
LAST-MODIFIED:20251010T060459Z
UID:10001692-1746822600-1746822600@thebowery.com
SUMMARY:The Bounty Hunters
DESCRIPTION:
URL:https://thebowery.com/event/the-bounty-hunters-5-2/2025-05-09/
LOCATION:The Bowery\, 110 9th Ave N\, Myrtle Beach\, 29577\, United States
ATTACH;FMTTYPE=image/jpeg:https://thebowery.com/wp-content/uploads/2024/10/BH-PROMO-6-scaled.jpg
END:VEVENT
BEGIN:VEVENT
DTSTART;TZID=America/New_York:20250510T203000
DTEND;TZID=America/New_York:20250510T203000
DTSTAMP:20260418T213130
CREATED:20250306T213550Z
LAST-MODIFIED:20251010T060459Z
UID:10001693-1746909000-1746909000@thebowery.com
SUMMARY:The Bounty Hunters
DESCRIPTION:
URL:https://thebowery.com/event/the-bounty-hunters-5-2/2025-05-10/
LOCATION:The Bowery\, 110 9th Ave N\, Myrtle Beach\, 29577\, United States
ATTACH;FMTTYPE=image/jpeg:https://thebowery.com/wp-content/uploads/2024/10/BH-PROMO-6-scaled.jpg
END:VEVENT
BEGIN:VEVENT
DTSTART;TZID=America/New_York:20250511T203000
DTEND;TZID=America/New_York:20250512T013000
DTSTAMP:20260418T213130
CREATED:20250511T201009Z
LAST-MODIFIED:20250511T202141Z
UID:10001821-1746995400-1747013400@thebowery.com
SUMMARY:Maddie Rean
DESCRIPTION:
URL:https://thebowery.com/event/maddie-rean-3/
LOCATION:The Bowery\, 110 9th Ave N\, Myrtle Beach\, 29577\, United States
ATTACH;FMTTYPE=image/jpeg:https://thebowery.com/wp-content/uploads/2025/05/326533838_1835073793532392_2500164365262918510_n-e1746994886744.jpg
END:VEVENT
END:VCALENDAR