BEGIN:VCALENDAR
VERSION:2.0
PRODID:-//The Bowery - ECPv6.15.20//NONSGML v1.0//EN
CALSCALE:GREGORIAN
METHOD:PUBLISH
X-WR-CALNAME:The Bowery
X-ORIGINAL-URL:https://thebowery.com
X-WR-CALDESC:Events for The Bowery
REFRESH-INTERVAL;VALUE=DURATION:PT1H
X-Robots-Tag:noindex
X-PUBLISHED-TTL:PT1H
BEGIN:VTIMEZONE
TZID:America/New_York
BEGIN:DAYLIGHT
TZOFFSETFROM:-0500
TZOFFSETTO:-0400
TZNAME:EDT
DTSTART:20240310T070000
END:DAYLIGHT
BEGIN:STANDARD
TZOFFSETFROM:-0400
TZOFFSETTO:-0500
TZNAME:EST
DTSTART:20241103T060000
END:STANDARD
BEGIN:DAYLIGHT
TZOFFSETFROM:-0500
TZOFFSETTO:-0400
TZNAME:EDT
DTSTART:20250309T070000
END:DAYLIGHT
BEGIN:STANDARD
TZOFFSETFROM:-0400
TZOFFSETTO:-0500
TZNAME:EST
DTSTART:20251102T060000
END:STANDARD
BEGIN:DAYLIGHT
TZOFFSETFROM:-0500
TZOFFSETTO:-0400
TZNAME:EDT
DTSTART:20260308T070000
END:DAYLIGHT
BEGIN:STANDARD
TZOFFSETFROM:-0400
TZOFFSETTO:-0500
TZNAME:EST
DTSTART:20261101T060000
END:STANDARD
END:VTIMEZONE
BEGIN:VEVENT
DTSTART;TZID=America/New_York:20250428T203000
DTEND;TZID=America/New_York:20250428T203000
DTSTAMP:20260420T040140
CREATED:20250306T213550Z
LAST-MODIFIED:20251010T060459Z
UID:10001682-1745872200-1745872200@thebowery.com
SUMMARY:The Bounty Hunters
DESCRIPTION:
URL:https://thebowery.com/event/the-bounty-hunters-5-2/2025-04-28/
LOCATION:The Bowery\, 110 9th Ave N\, Myrtle Beach\, 29577\, United States
ATTACH;FMTTYPE=image/jpeg:https://thebowery.com/wp-content/uploads/2024/10/BH-PROMO-6-scaled.jpg
END:VEVENT
BEGIN:VEVENT
DTSTART;TZID=America/New_York:20250429T203000
DTEND;TZID=America/New_York:20250429T203000
DTSTAMP:20260420T040140
CREATED:20250306T213550Z
LAST-MODIFIED:20251010T060459Z
UID:10001683-1745958600-1745958600@thebowery.com
SUMMARY:The Bounty Hunters
DESCRIPTION:
URL:https://thebowery.com/event/the-bounty-hunters-5-2/2025-04-29/
LOCATION:The Bowery\, 110 9th Ave N\, Myrtle Beach\, 29577\, United States
ATTACH;FMTTYPE=image/jpeg:https://thebowery.com/wp-content/uploads/2024/10/BH-PROMO-6-scaled.jpg
END:VEVENT
BEGIN:VEVENT
DTSTART;TZID=America/New_York:20250430T203000
DTEND;TZID=America/New_York:20250430T203000
DTSTAMP:20260420T040140
CREATED:20250306T213550Z
LAST-MODIFIED:20251010T060459Z
UID:10001684-1746045000-1746045000@thebowery.com
SUMMARY:The Bounty Hunters
DESCRIPTION:
URL:https://thebowery.com/event/the-bounty-hunters-5-2/2025-04-30/
LOCATION:The Bowery\, 110 9th Ave N\, Myrtle Beach\, 29577\, United States
ATTACH;FMTTYPE=image/jpeg:https://thebowery.com/wp-content/uploads/2024/10/BH-PROMO-6-scaled.jpg
END:VEVENT
BEGIN:VEVENT
DTSTART;TZID=America/New_York:20250501T203000
DTEND;TZID=America/New_York:20250501T203000
DTSTAMP:20260420T040140
CREATED:20250306T213550Z
LAST-MODIFIED:20251010T060459Z
UID:10001685-1746131400-1746131400@thebowery.com
SUMMARY:The Bounty Hunters
DESCRIPTION:
URL:https://thebowery.com/event/the-bounty-hunters-5-2/2025-05-01/
LOCATION:The Bowery\, 110 9th Ave N\, Myrtle Beach\, 29577\, United States
ATTACH;FMTTYPE=image/jpeg:https://thebowery.com/wp-content/uploads/2024/10/BH-PROMO-6-scaled.jpg
END:VEVENT
BEGIN:VEVENT
DTSTART;TZID=America/New_York:20250502T203000
DTEND;TZID=America/New_York:20250502T203000
DTSTAMP:20260420T040140
CREATED:20250306T213550Z
LAST-MODIFIED:20251010T060459Z
UID:10001686-1746217800-1746217800@thebowery.com
SUMMARY:The Bounty Hunters
DESCRIPTION:
URL:https://thebowery.com/event/the-bounty-hunters-5-2/2025-05-02/
LOCATION:The Bowery\, 110 9th Ave N\, Myrtle Beach\, 29577\, United States
ATTACH;FMTTYPE=image/jpeg:https://thebowery.com/wp-content/uploads/2024/10/BH-PROMO-6-scaled.jpg
END:VEVENT
BEGIN:VEVENT
DTSTART;TZID=America/New_York:20250503T203000
DTEND;TZID=America/New_York:20250503T203000
DTSTAMP:20260420T040140
CREATED:20250306T213550Z
LAST-MODIFIED:20251010T060459Z
UID:10001687-1746304200-1746304200@thebowery.com
SUMMARY:The Bounty Hunters
DESCRIPTION:
URL:https://thebowery.com/event/the-bounty-hunters-5-2/2025-05-03/
LOCATION:The Bowery\, 110 9th Ave N\, Myrtle Beach\, 29577\, United States
ATTACH;FMTTYPE=image/jpeg:https://thebowery.com/wp-content/uploads/2024/10/BH-PROMO-6-scaled.jpg
END:VEVENT
END:VCALENDAR