BEGIN:VCALENDAR
VERSION:2.0
PRODID:-//The Bowery - ECPv6.15.20//NONSGML v1.0//EN
CALSCALE:GREGORIAN
METHOD:PUBLISH
X-ORIGINAL-URL:https://thebowery.com
X-WR-CALDESC:Events for The Bowery
REFRESH-INTERVAL;VALUE=DURATION:PT1H
X-Robots-Tag:noindex
X-PUBLISHED-TTL:PT1H
BEGIN:VTIMEZONE
TZID:America/New_York
BEGIN:DAYLIGHT
TZOFFSETFROM:-0500
TZOFFSETTO:-0400
TZNAME:EDT
DTSTART:20240310T070000
END:DAYLIGHT
BEGIN:STANDARD
TZOFFSETFROM:-0400
TZOFFSETTO:-0500
TZNAME:EST
DTSTART:20241103T060000
END:STANDARD
BEGIN:DAYLIGHT
TZOFFSETFROM:-0500
TZOFFSETTO:-0400
TZNAME:EDT
DTSTART:20250309T070000
END:DAYLIGHT
BEGIN:STANDARD
TZOFFSETFROM:-0400
TZOFFSETTO:-0500
TZNAME:EST
DTSTART:20251102T060000
END:STANDARD
BEGIN:DAYLIGHT
TZOFFSETFROM:-0500
TZOFFSETTO:-0400
TZNAME:EDT
DTSTART:20260308T070000
END:DAYLIGHT
BEGIN:STANDARD
TZOFFSETFROM:-0400
TZOFFSETTO:-0500
TZNAME:EST
DTSTART:20261101T060000
END:STANDARD
END:VTIMEZONE
BEGIN:VEVENT
DTSTART;TZID=America/New_York:20250117T190000
DTEND;TZID=America/New_York:20250118T013000
DTSTAMP:20260421T203443
CREATED:20241231T012451Z
LAST-MODIFIED:20241231T014103Z
UID:10001653-1737140400-1737163800@thebowery.com
SUMMARY:Pre Party Carolina Country Music Awards
DESCRIPTION:The Bowery in Myrtle Beach\, South Carolina\, is thrilled to announce that it will be hosting the Pre-Party for the Carolina Country Music Awards on Friday\, January 17\, 2025\, at 7:00 PM.This exciting event marks the beginning of the Carolina Country Music Awards\, which will be held the following day\, January 18\, 2025 at Greg Rowles Legacy Theater in North Myrtle Beach\, SC. \nThe Pre-Party at The Bowery promises to be an exciting kickoff to the Carolina Country Music Awards weekend. Attendees can look forward to:\n \n•Live Music: Experience performances by talented country music artists and The Bowery house band\, The Bounty Hunters.\n•Networking: Mingle with fellow country music enthusiasts and industry professionals.\n•Atmosphere: Enjoy the unique ambiance of The Bowery\, a legendary venue in Myrtle Beach.\n\nFor those interested in attending the main awards ceremony\, the Carolina Country Music Awards will take place on Saturday\, January 20\, 2024. This prestigious event celebrates the best in country music talent from North and South Carolina\, featuring performances and honoring artists in various categories.\nThe Pre-Party at The Bowery offers a fantastic opportunity to start the awards weekend on a high note\, immersing yourself in the vibrant country music scene of the Carolinas.
URL:https://thebowery.com/event/pre-party-carolina-country-music-awards/
LOCATION:The Bowery\, 110 9th Ave N\, Myrtle Beach\, 29577\, United States
ATTACH;FMTTYPE=image/png:https://thebowery.com/wp-content/uploads/2024/12/CCMA_Logo-e1735609250722.png
END:VEVENT
END:VCALENDAR