BEGIN:VCALENDAR
VERSION:2.0
PRODID:-//The Bowery - ECPv6.15.20//NONSGML v1.0//EN
CALSCALE:GREGORIAN
METHOD:PUBLISH
X-ORIGINAL-URL:https://thebowery.com
X-WR-CALDESC:Events for The Bowery
REFRESH-INTERVAL;VALUE=DURATION:PT1H
X-Robots-Tag:noindex
X-PUBLISHED-TTL:PT1H
BEGIN:VTIMEZONE
TZID:America/New_York
BEGIN:DAYLIGHT
TZOFFSETFROM:-0500
TZOFFSETTO:-0400
TZNAME:EDT
DTSTART:20240310T070000
END:DAYLIGHT
BEGIN:STANDARD
TZOFFSETFROM:-0400
TZOFFSETTO:-0500
TZNAME:EST
DTSTART:20241103T060000
END:STANDARD
BEGIN:DAYLIGHT
TZOFFSETFROM:-0500
TZOFFSETTO:-0400
TZNAME:EDT
DTSTART:20250309T070000
END:DAYLIGHT
BEGIN:STANDARD
TZOFFSETFROM:-0400
TZOFFSETTO:-0500
TZNAME:EST
DTSTART:20251102T060000
END:STANDARD
BEGIN:DAYLIGHT
TZOFFSETFROM:-0500
TZOFFSETTO:-0400
TZNAME:EDT
DTSTART:20260308T070000
END:DAYLIGHT
BEGIN:STANDARD
TZOFFSETFROM:-0400
TZOFFSETTO:-0500
TZNAME:EST
DTSTART:20261101T060000
END:STANDARD
END:VTIMEZONE
BEGIN:VEVENT
DTSTART;TZID=America/New_York:20250809T203000
DTEND;TZID=America/New_York:20250809T203000
DTSTAMP:20260420T015159
CREATED:20250306T213550Z
LAST-MODIFIED:20251010T060459Z
UID:10001771-1754771400-1754771400@thebowery.com
SUMMARY:The Bounty Hunters
DESCRIPTION:
URL:https://thebowery.com/event/the-bounty-hunters-5-2/2025-08-09/
LOCATION:The Bowery\, 110 9th Ave N\, Myrtle Beach\, 29577\, United States
ATTACH;FMTTYPE=image/jpeg:https://thebowery.com/wp-content/uploads/2024/10/BH-PROMO-6-scaled.jpg
END:VEVENT
BEGIN:VEVENT
DTSTART;TZID=America/New_York:20250810T203000
DTEND;TZID=America/New_York:20250811T013000
DTSTAMP:20260420T015159
CREATED:20250811T004010Z
LAST-MODIFIED:20250811T005228Z
UID:10001846-1754857800-1754875800@thebowery.com
SUMMARY:Chance Howland
DESCRIPTION:
URL:https://thebowery.com/event/chance-howland/
LOCATION:The Bowery\, 110 9th Ave N\, Myrtle Beach\, 29577\, United States
ATTACH;FMTTYPE=image/jpeg:https://thebowery.com/wp-content/uploads/2025/08/Black-and-Dark-Brown-Photo-Modern-Live-Music-Party-Night-Instagram-Story.png.jpeg
END:VEVENT
BEGIN:VEVENT
DTSTART;TZID=America/New_York:20250811T203000
DTEND;TZID=America/New_York:20250811T203000
DTSTAMP:20260420T015159
CREATED:20250306T213550Z
LAST-MODIFIED:20251010T060459Z
UID:10001772-1754944200-1754944200@thebowery.com
SUMMARY:The Bounty Hunters
DESCRIPTION:
URL:https://thebowery.com/event/the-bounty-hunters-5-2/2025-08-11/
LOCATION:The Bowery\, 110 9th Ave N\, Myrtle Beach\, 29577\, United States
ATTACH;FMTTYPE=image/jpeg:https://thebowery.com/wp-content/uploads/2024/10/BH-PROMO-6-scaled.jpg
END:VEVENT
BEGIN:VEVENT
DTSTART;TZID=America/New_York:20250812T203000
DTEND;TZID=America/New_York:20250812T203000
DTSTAMP:20260420T015159
CREATED:20250306T213550Z
LAST-MODIFIED:20251010T060459Z
UID:10001773-1755030600-1755030600@thebowery.com
SUMMARY:The Bounty Hunters
DESCRIPTION:
URL:https://thebowery.com/event/the-bounty-hunters-5-2/2025-08-12/
LOCATION:The Bowery\, 110 9th Ave N\, Myrtle Beach\, 29577\, United States
ATTACH;FMTTYPE=image/jpeg:https://thebowery.com/wp-content/uploads/2024/10/BH-PROMO-6-scaled.jpg
END:VEVENT
BEGIN:VEVENT
DTSTART;TZID=America/New_York:20250813T203000
DTEND;TZID=America/New_York:20250813T203000
DTSTAMP:20260420T015159
CREATED:20250306T213550Z
LAST-MODIFIED:20251010T060459Z
UID:10001774-1755117000-1755117000@thebowery.com
SUMMARY:The Bounty Hunters
DESCRIPTION:
URL:https://thebowery.com/event/the-bounty-hunters-5-2/2025-08-13/
LOCATION:The Bowery\, 110 9th Ave N\, Myrtle Beach\, 29577\, United States
ATTACH;FMTTYPE=image/jpeg:https://thebowery.com/wp-content/uploads/2024/10/BH-PROMO-6-scaled.jpg
END:VEVENT
BEGIN:VEVENT
DTSTART;TZID=America/New_York:20250814T203000
DTEND;TZID=America/New_York:20250814T203000
DTSTAMP:20260420T015159
CREATED:20250306T213550Z
LAST-MODIFIED:20251010T060459Z
UID:10001775-1755203400-1755203400@thebowery.com
SUMMARY:The Bounty Hunters
DESCRIPTION:
URL:https://thebowery.com/event/the-bounty-hunters-5-2/2025-08-14/
LOCATION:The Bowery\, 110 9th Ave N\, Myrtle Beach\, 29577\, United States
ATTACH;FMTTYPE=image/jpeg:https://thebowery.com/wp-content/uploads/2024/10/BH-PROMO-6-scaled.jpg
END:VEVENT
BEGIN:VEVENT
DTSTART;TZID=America/New_York:20250815T203000
DTEND;TZID=America/New_York:20250815T203000
DTSTAMP:20260420T015159
CREATED:20250306T213550Z
LAST-MODIFIED:20251010T060459Z
UID:10001776-1755289800-1755289800@thebowery.com
SUMMARY:The Bounty Hunters
DESCRIPTION:
URL:https://thebowery.com/event/the-bounty-hunters-5-2/2025-08-15/
LOCATION:The Bowery\, 110 9th Ave N\, Myrtle Beach\, 29577\, United States
ATTACH;FMTTYPE=image/jpeg:https://thebowery.com/wp-content/uploads/2024/10/BH-PROMO-6-scaled.jpg
END:VEVENT
BEGIN:VEVENT
DTSTART;TZID=America/New_York:20250816T203000
DTEND;TZID=America/New_York:20250816T203000
DTSTAMP:20260420T015159
CREATED:20250306T213550Z
LAST-MODIFIED:20251010T060459Z
UID:10001777-1755376200-1755376200@thebowery.com
SUMMARY:The Bounty Hunters
DESCRIPTION:
URL:https://thebowery.com/event/the-bounty-hunters-5-2/2025-08-16/
LOCATION:The Bowery\, 110 9th Ave N\, Myrtle Beach\, 29577\, United States
ATTACH;FMTTYPE=image/jpeg:https://thebowery.com/wp-content/uploads/2024/10/BH-PROMO-6-scaled.jpg
END:VEVENT
BEGIN:VEVENT
DTSTART;TZID=America/New_York:20250817T203000
DTEND;TZID=America/New_York:20250818T013000
DTSTAMP:20260420T015159
CREATED:20250811T004729Z
LAST-MODIFIED:20250811T004729Z
UID:10001847-1755462600-1755480600@thebowery.com
SUMMARY:Maddie Rean
DESCRIPTION:
URL:https://thebowery.com/event/maddie-rean-4/
LOCATION:The Bowery\, 110 9th Ave N\, Myrtle Beach\, 29577\, United States
END:VEVENT
BEGIN:VEVENT
DTSTART;TZID=America/New_York:20250818T203000
DTEND;TZID=America/New_York:20250818T203000
DTSTAMP:20260420T015159
CREATED:20250306T213550Z
LAST-MODIFIED:20251010T060459Z
UID:10001778-1755549000-1755549000@thebowery.com
SUMMARY:The Bounty Hunters
DESCRIPTION:
URL:https://thebowery.com/event/the-bounty-hunters-5-2/2025-08-18/
LOCATION:The Bowery\, 110 9th Ave N\, Myrtle Beach\, 29577\, United States
ATTACH;FMTTYPE=image/jpeg:https://thebowery.com/wp-content/uploads/2024/10/BH-PROMO-6-scaled.jpg
END:VEVENT
BEGIN:VEVENT
DTSTART;TZID=America/New_York:20250819T203000
DTEND;TZID=America/New_York:20250819T203000
DTSTAMP:20260420T015159
CREATED:20250306T213550Z
LAST-MODIFIED:20251010T060459Z
UID:10001779-1755635400-1755635400@thebowery.com
SUMMARY:The Bounty Hunters
DESCRIPTION:
URL:https://thebowery.com/event/the-bounty-hunters-5-2/2025-08-19/
LOCATION:The Bowery\, 110 9th Ave N\, Myrtle Beach\, 29577\, United States
ATTACH;FMTTYPE=image/jpeg:https://thebowery.com/wp-content/uploads/2024/10/BH-PROMO-6-scaled.jpg
END:VEVENT
BEGIN:VEVENT
DTSTART;TZID=America/New_York:20250820T203000
DTEND;TZID=America/New_York:20250820T203000
DTSTAMP:20260420T015159
CREATED:20250306T213550Z
LAST-MODIFIED:20251010T060459Z
UID:10001780-1755721800-1755721800@thebowery.com
SUMMARY:The Bounty Hunters
DESCRIPTION:
URL:https://thebowery.com/event/the-bounty-hunters-5-2/2025-08-20/
LOCATION:The Bowery\, 110 9th Ave N\, Myrtle Beach\, 29577\, United States
ATTACH;FMTTYPE=image/jpeg:https://thebowery.com/wp-content/uploads/2024/10/BH-PROMO-6-scaled.jpg
END:VEVENT
BEGIN:VEVENT
DTSTART;TZID=America/New_York:20250821T203000
DTEND;TZID=America/New_York:20250821T203000
DTSTAMP:20260420T015159
CREATED:20250306T213550Z
LAST-MODIFIED:20251010T060459Z
UID:10001781-1755808200-1755808200@thebowery.com
SUMMARY:The Bounty Hunters
DESCRIPTION:
URL:https://thebowery.com/event/the-bounty-hunters-5-2/2025-08-21/
LOCATION:The Bowery\, 110 9th Ave N\, Myrtle Beach\, 29577\, United States
ATTACH;FMTTYPE=image/jpeg:https://thebowery.com/wp-content/uploads/2024/10/BH-PROMO-6-scaled.jpg
END:VEVENT
BEGIN:VEVENT
DTSTART;TZID=America/New_York:20250822T203000
DTEND;TZID=America/New_York:20250822T203000
DTSTAMP:20260420T015159
CREATED:20250306T213550Z
LAST-MODIFIED:20251010T060459Z
UID:10001782-1755894600-1755894600@thebowery.com
SUMMARY:The Bounty Hunters
DESCRIPTION:
URL:https://thebowery.com/event/the-bounty-hunters-5-2/2025-08-22/
LOCATION:The Bowery\, 110 9th Ave N\, Myrtle Beach\, 29577\, United States
ATTACH;FMTTYPE=image/jpeg:https://thebowery.com/wp-content/uploads/2024/10/BH-PROMO-6-scaled.jpg
END:VEVENT
BEGIN:VEVENT
DTSTART;TZID=America/New_York:20250823T203000
DTEND;TZID=America/New_York:20250823T203000
DTSTAMP:20260420T015159
CREATED:20250306T213550Z
LAST-MODIFIED:20251010T060459Z
UID:10001783-1755981000-1755981000@thebowery.com
SUMMARY:The Bounty Hunters
DESCRIPTION:
URL:https://thebowery.com/event/the-bounty-hunters-5-2/2025-08-23/
LOCATION:The Bowery\, 110 9th Ave N\, Myrtle Beach\, 29577\, United States
ATTACH;FMTTYPE=image/jpeg:https://thebowery.com/wp-content/uploads/2024/10/BH-PROMO-6-scaled.jpg
END:VEVENT
BEGIN:VEVENT
DTSTART;TZID=America/New_York:20250824T203000
DTEND;TZID=America/New_York:20250825T013000
DTSTAMP:20260420T015159
CREATED:20250811T004848Z
LAST-MODIFIED:20250811T004848Z
UID:10001848-1756067400-1756085400@thebowery.com
SUMMARY:Alek Ottaway
DESCRIPTION:
URL:https://thebowery.com/event/alek-ottaway/
LOCATION:The Bowery\, 110 9th Ave N\, Myrtle Beach\, 29577\, United States
END:VEVENT
BEGIN:VEVENT
DTSTART;TZID=America/New_York:20250825T203000
DTEND;TZID=America/New_York:20250825T203000
DTSTAMP:20260420T015159
CREATED:20250306T213550Z
LAST-MODIFIED:20251010T060459Z
UID:10001784-1756153800-1756153800@thebowery.com
SUMMARY:The Bounty Hunters
DESCRIPTION:
URL:https://thebowery.com/event/the-bounty-hunters-5-2/2025-08-25/
LOCATION:The Bowery\, 110 9th Ave N\, Myrtle Beach\, 29577\, United States
ATTACH;FMTTYPE=image/jpeg:https://thebowery.com/wp-content/uploads/2024/10/BH-PROMO-6-scaled.jpg
END:VEVENT
BEGIN:VEVENT
DTSTART;TZID=America/New_York:20250826T203000
DTEND;TZID=America/New_York:20250826T203000
DTSTAMP:20260420T015159
CREATED:20250306T213550Z
LAST-MODIFIED:20251010T060459Z
UID:10001785-1756240200-1756240200@thebowery.com
SUMMARY:The Bounty Hunters
DESCRIPTION:
URL:https://thebowery.com/event/the-bounty-hunters-5-2/2025-08-26/
LOCATION:The Bowery\, 110 9th Ave N\, Myrtle Beach\, 29577\, United States
ATTACH;FMTTYPE=image/jpeg:https://thebowery.com/wp-content/uploads/2024/10/BH-PROMO-6-scaled.jpg
END:VEVENT
BEGIN:VEVENT
DTSTART;TZID=America/New_York:20250827T203000
DTEND;TZID=America/New_York:20250827T203000
DTSTAMP:20260420T015159
CREATED:20250306T213550Z
LAST-MODIFIED:20251010T060459Z
UID:10001786-1756326600-1756326600@thebowery.com
SUMMARY:The Bounty Hunters
DESCRIPTION:
URL:https://thebowery.com/event/the-bounty-hunters-5-2/2025-08-27/
LOCATION:The Bowery\, 110 9th Ave N\, Myrtle Beach\, 29577\, United States
ATTACH;FMTTYPE=image/jpeg:https://thebowery.com/wp-content/uploads/2024/10/BH-PROMO-6-scaled.jpg
END:VEVENT
BEGIN:VEVENT
DTSTART;TZID=America/New_York:20250828T203000
DTEND;TZID=America/New_York:20250828T203000
DTSTAMP:20260420T015159
CREATED:20250306T213550Z
LAST-MODIFIED:20251010T060459Z
UID:10001787-1756413000-1756413000@thebowery.com
SUMMARY:The Bounty Hunters
DESCRIPTION:
URL:https://thebowery.com/event/the-bounty-hunters-5-2/2025-08-28/
LOCATION:The Bowery\, 110 9th Ave N\, Myrtle Beach\, 29577\, United States
ATTACH;FMTTYPE=image/jpeg:https://thebowery.com/wp-content/uploads/2024/10/BH-PROMO-6-scaled.jpg
END:VEVENT
BEGIN:VEVENT
DTSTART;TZID=America/New_York:20250829T203000
DTEND;TZID=America/New_York:20250829T203000
DTSTAMP:20260420T015159
CREATED:20250306T213550Z
LAST-MODIFIED:20251010T060459Z
UID:10001788-1756499400-1756499400@thebowery.com
SUMMARY:The Bounty Hunters
DESCRIPTION:
URL:https://thebowery.com/event/the-bounty-hunters-5-2/2025-08-29/
LOCATION:The Bowery\, 110 9th Ave N\, Myrtle Beach\, 29577\, United States
ATTACH;FMTTYPE=image/jpeg:https://thebowery.com/wp-content/uploads/2024/10/BH-PROMO-6-scaled.jpg
END:VEVENT
BEGIN:VEVENT
DTSTART;TZID=America/New_York:20250830T203000
DTEND;TZID=America/New_York:20250830T203000
DTSTAMP:20260420T015159
CREATED:20250306T213550Z
LAST-MODIFIED:20251010T060459Z
UID:10001789-1756585800-1756585800@thebowery.com
SUMMARY:The Bounty Hunters
DESCRIPTION:
URL:https://thebowery.com/event/the-bounty-hunters-5-2/2025-08-30/
LOCATION:The Bowery\, 110 9th Ave N\, Myrtle Beach\, 29577\, United States
ATTACH;FMTTYPE=image/jpeg:https://thebowery.com/wp-content/uploads/2024/10/BH-PROMO-6-scaled.jpg
END:VEVENT
BEGIN:VEVENT
DTSTART;TZID=America/New_York:20250831T203000
DTEND;TZID=America/New_York:20250901T013000
DTSTAMP:20260420T015159
CREATED:20250811T004933Z
LAST-MODIFIED:20250830T231026Z
UID:10001849-1756672200-1756690200@thebowery.com
SUMMARY:Preston Duffee
DESCRIPTION:
URL:https://thebowery.com/event/preston-duffee/
LOCATION:The Bowery\, 110 9th Ave N\, Myrtle Beach\, 29577\, United States
ATTACH;FMTTYPE=image/png:https://thebowery.com/wp-content/uploads/2025/08/Black-and-Dark-Brown-Photo-Modern-Live-Music-Party-Night-Instagram-Story.png
END:VEVENT
BEGIN:VEVENT
DTSTART;TZID=America/New_York:20250901T203000
DTEND;TZID=America/New_York:20250901T203000
DTSTAMP:20260420T015159
CREATED:20250306T213550Z
LAST-MODIFIED:20251010T060459Z
UID:10001790-1756758600-1756758600@thebowery.com
SUMMARY:The Bounty Hunters
DESCRIPTION:
URL:https://thebowery.com/event/the-bounty-hunters-5-2/2025-09-01/
LOCATION:The Bowery\, 110 9th Ave N\, Myrtle Beach\, 29577\, United States
ATTACH;FMTTYPE=image/jpeg:https://thebowery.com/wp-content/uploads/2024/10/BH-PROMO-6-scaled.jpg
END:VEVENT
BEGIN:VEVENT
DTSTART;TZID=America/New_York:20250902T203000
DTEND;TZID=America/New_York:20250902T203000
DTSTAMP:20260420T015159
CREATED:20250306T213550Z
LAST-MODIFIED:20251010T060459Z
UID:10001791-1756845000-1756845000@thebowery.com
SUMMARY:The Bounty Hunters
DESCRIPTION:
URL:https://thebowery.com/event/the-bounty-hunters-5-2/2025-09-02/
LOCATION:The Bowery\, 110 9th Ave N\, Myrtle Beach\, 29577\, United States
ATTACH;FMTTYPE=image/jpeg:https://thebowery.com/wp-content/uploads/2024/10/BH-PROMO-6-scaled.jpg
END:VEVENT
BEGIN:VEVENT
DTSTART;TZID=America/New_York:20250903T203000
DTEND;TZID=America/New_York:20250903T203000
DTSTAMP:20260420T015159
CREATED:20250306T213550Z
LAST-MODIFIED:20251010T060459Z
UID:10001792-1756931400-1756931400@thebowery.com
SUMMARY:The Bounty Hunters
DESCRIPTION:
URL:https://thebowery.com/event/the-bounty-hunters-5-2/2025-09-03/
LOCATION:The Bowery\, 110 9th Ave N\, Myrtle Beach\, 29577\, United States
ATTACH;FMTTYPE=image/jpeg:https://thebowery.com/wp-content/uploads/2024/10/BH-PROMO-6-scaled.jpg
END:VEVENT
BEGIN:VEVENT
DTSTART;TZID=America/New_York:20250904T203000
DTEND;TZID=America/New_York:20250904T203000
DTSTAMP:20260420T015159
CREATED:20250306T213550Z
LAST-MODIFIED:20251010T060459Z
UID:10001793-1757017800-1757017800@thebowery.com
SUMMARY:The Bounty Hunters
DESCRIPTION:
URL:https://thebowery.com/event/the-bounty-hunters-5-2/2025-09-04/
LOCATION:The Bowery\, 110 9th Ave N\, Myrtle Beach\, 29577\, United States
ATTACH;FMTTYPE=image/jpeg:https://thebowery.com/wp-content/uploads/2024/10/BH-PROMO-6-scaled.jpg
END:VEVENT
BEGIN:VEVENT
DTSTART;TZID=America/New_York:20250905T203000
DTEND;TZID=America/New_York:20250905T203000
DTSTAMP:20260420T015159
CREATED:20250306T213550Z
LAST-MODIFIED:20251010T060459Z
UID:10001794-1757104200-1757104200@thebowery.com
SUMMARY:The Bounty Hunters
DESCRIPTION:
URL:https://thebowery.com/event/the-bounty-hunters-5-2/2025-09-05/
LOCATION:The Bowery\, 110 9th Ave N\, Myrtle Beach\, 29577\, United States
ATTACH;FMTTYPE=image/jpeg:https://thebowery.com/wp-content/uploads/2024/10/BH-PROMO-6-scaled.jpg
END:VEVENT
BEGIN:VEVENT
DTSTART;TZID=America/New_York:20250906T203000
DTEND;TZID=America/New_York:20250906T203000
DTSTAMP:20260420T015159
CREATED:20250306T213550Z
LAST-MODIFIED:20251010T060459Z
UID:10001795-1757190600-1757190600@thebowery.com
SUMMARY:The Bounty Hunters
DESCRIPTION:
URL:https://thebowery.com/event/the-bounty-hunters-5-2/2025-09-06/
LOCATION:The Bowery\, 110 9th Ave N\, Myrtle Beach\, 29577\, United States
ATTACH;FMTTYPE=image/jpeg:https://thebowery.com/wp-content/uploads/2024/10/BH-PROMO-6-scaled.jpg
END:VEVENT
BEGIN:VEVENT
DTSTART;TZID=America/New_York:20250908T203000
DTEND;TZID=America/New_York:20250908T203000
DTSTAMP:20260420T015159
CREATED:20250306T213550Z
LAST-MODIFIED:20251010T060459Z
UID:10001796-1757363400-1757363400@thebowery.com
SUMMARY:The Bounty Hunters
DESCRIPTION:
URL:https://thebowery.com/event/the-bounty-hunters-5-2/2025-09-08/
LOCATION:The Bowery\, 110 9th Ave N\, Myrtle Beach\, 29577\, United States
ATTACH;FMTTYPE=image/jpeg:https://thebowery.com/wp-content/uploads/2024/10/BH-PROMO-6-scaled.jpg
END:VEVENT
END:VCALENDAR