BEGIN:VCALENDAR
VERSION:2.0
PRODID:-//The Bowery - ECPv6.15.20//NONSGML v1.0//EN
CALSCALE:GREGORIAN
METHOD:PUBLISH
X-WR-CALNAME:The Bowery
X-ORIGINAL-URL:https://thebowery.com
X-WR-CALDESC:Events for The Bowery
REFRESH-INTERVAL;VALUE=DURATION:PT1H
X-Robots-Tag:noindex
X-PUBLISHED-TTL:PT1H
BEGIN:VTIMEZONE
TZID:America/New_York
BEGIN:DAYLIGHT
TZOFFSETFROM:-0500
TZOFFSETTO:-0400
TZNAME:EDT
DTSTART:20240310T070000
END:DAYLIGHT
BEGIN:STANDARD
TZOFFSETFROM:-0400
TZOFFSETTO:-0500
TZNAME:EST
DTSTART:20241103T060000
END:STANDARD
BEGIN:DAYLIGHT
TZOFFSETFROM:-0500
TZOFFSETTO:-0400
TZNAME:EDT
DTSTART:20250309T070000
END:DAYLIGHT
BEGIN:STANDARD
TZOFFSETFROM:-0400
TZOFFSETTO:-0500
TZNAME:EST
DTSTART:20251102T060000
END:STANDARD
BEGIN:DAYLIGHT
TZOFFSETFROM:-0500
TZOFFSETTO:-0400
TZNAME:EDT
DTSTART:20260308T070000
END:DAYLIGHT
BEGIN:STANDARD
TZOFFSETFROM:-0400
TZOFFSETTO:-0500
TZNAME:EST
DTSTART:20261101T060000
END:STANDARD
END:VTIMEZONE
BEGIN:VEVENT
DTSTART;TZID=America/New_York:20250607T180000
DTEND;TZID=America/New_York:20250607T200000
DTSTAMP:20260419T171416
CREATED:20250607T171240Z
LAST-MODIFIED:20250607T171338Z
UID:10001843-1749319200-1749326400@thebowery.com
SUMMARY:Ryan Trotti
DESCRIPTION:
URL:https://thebowery.com/event/ryan-trotti/
LOCATION:The Bowery\, 110 9th Ave N\, Myrtle Beach\, 29577\, United States
END:VEVENT
BEGIN:VEVENT
DTSTART;TZID=America/New_York:20250607T200000
DTEND;TZID=America/New_York:20250607T200000
DTSTAMP:20260419T171416
CREATED:20250605T120222Z
LAST-MODIFIED:20250605T120222Z
UID:10001836-1749326400-1749326400@thebowery.com
SUMMARY:The Bounty Hunters
DESCRIPTION:
URL:https://thebowery.com/event/the-bounty-hunters-8/
LOCATION:The Bowery\, 110 9th Ave N\, Myrtle Beach\, 29577\, United States
END:VEVENT
BEGIN:VEVENT
DTSTART;TZID=America/New_York:20250607T233000
DTEND;TZID=America/New_York:20250608T013000
DTSTAMP:20260419T171416
CREATED:20250607T171515Z
LAST-MODIFIED:20250607T171709Z
UID:10001844-1749339000-1749346200@thebowery.com
SUMMARY:Mariah Faith & The Bailey Road Band
DESCRIPTION:
URL:https://thebowery.com/event/mariah-faith-the-bailey-road-band/
LOCATION:The Bowery\, 110 9th Ave N\, Myrtle Beach\, 29577\, United States
END:VEVENT
BEGIN:VEVENT
DTSTART;TZID=America/New_York:20250608T130000
DTEND;TZID=America/New_York:20250608T130000
DTSTAMP:20260419T171416
CREATED:20250605T120223Z
LAST-MODIFIED:20250605T120223Z
UID:10001838-1749387600-1749387600@thebowery.com
SUMMARY:Coley Williams
DESCRIPTION:
URL:https://thebowery.com/event/coley-williams-4/
LOCATION:The Bowery\, 110 9th Ave N\, Myrtle Beach\, 29577\, United States
END:VEVENT
BEGIN:VEVENT
DTSTART;TZID=America/New_York:20250608T180000
DTEND;TZID=America/New_York:20250608T180000
DTSTAMP:20260419T171416
CREATED:20250605T120224Z
LAST-MODIFIED:20250605T120224Z
UID:10001840-1749405600-1749405600@thebowery.com
SUMMARY:Dalton Davis
DESCRIPTION:
URL:https://thebowery.com/event/dalton-davis-3/
LOCATION:The Bowery\, 110 9th Ave N\, Myrtle Beach\, 29577\, United States
END:VEVENT
BEGIN:VEVENT
DTSTART;TZID=America/New_York:20250608T200000
DTEND;TZID=America/New_York:20250608T200000
DTSTAMP:20260419T171416
CREATED:20250605T120224Z
LAST-MODIFIED:20250605T120224Z
UID:10001841-1749412800-1749412800@thebowery.com
SUMMARY:The Bounty Hunters
DESCRIPTION:
URL:https://thebowery.com/event/the-bounty-hunters-9/
LOCATION:The Bowery\, 110 9th Ave N\, Myrtle Beach\, 29577\, United States
END:VEVENT
BEGIN:VEVENT
DTSTART;TZID=America/New_York:20250608T233000
DTEND;TZID=America/New_York:20250609T013000
DTSTAMP:20260419T171416
CREATED:20250605T120224Z
LAST-MODIFIED:20250607T171807Z
UID:10001842-1749425400-1749432600@thebowery.com
SUMMARY:Jack Wharf Band
DESCRIPTION:👉 Buy Tickets Now
URL:https://thebowery.com/event/jack-wharf-band/
LOCATION:The Bowery\, 110 9th Ave N\, Myrtle Beach\, 29577\, United States
ATTACH;FMTTYPE=image/webp:https://thebowery.com/wp-content/uploads/2025/06/Jack-Wharff-The-Tobacco-Flatts-1024x683-1.webp
END:VEVENT
BEGIN:VEVENT
DTSTART;TZID=America/New_York:20250609T203000
DTEND;TZID=America/New_York:20250609T203000
DTSTAMP:20260419T171416
CREATED:20250306T213550Z
LAST-MODIFIED:20251010T060459Z
UID:10001718-1749501000-1749501000@thebowery.com
SUMMARY:The Bounty Hunters
DESCRIPTION:
URL:https://thebowery.com/event/the-bounty-hunters-5-2/2025-06-09/
LOCATION:The Bowery\, 110 9th Ave N\, Myrtle Beach\, 29577\, United States
ATTACH;FMTTYPE=image/jpeg:https://thebowery.com/wp-content/uploads/2024/10/BH-PROMO-6-scaled.jpg
END:VEVENT
BEGIN:VEVENT
DTSTART;TZID=America/New_York:20250610T203000
DTEND;TZID=America/New_York:20250610T203000
DTSTAMP:20260419T171416
CREATED:20250306T213550Z
LAST-MODIFIED:20251010T060459Z
UID:10001719-1749587400-1749587400@thebowery.com
SUMMARY:The Bounty Hunters
DESCRIPTION:
URL:https://thebowery.com/event/the-bounty-hunters-5-2/2025-06-10/
LOCATION:The Bowery\, 110 9th Ave N\, Myrtle Beach\, 29577\, United States
ATTACH;FMTTYPE=image/jpeg:https://thebowery.com/wp-content/uploads/2024/10/BH-PROMO-6-scaled.jpg
END:VEVENT
BEGIN:VEVENT
DTSTART;TZID=America/New_York:20250611T203000
DTEND;TZID=America/New_York:20250611T203000
DTSTAMP:20260419T171416
CREATED:20250306T213550Z
LAST-MODIFIED:20251010T060459Z
UID:10001720-1749673800-1749673800@thebowery.com
SUMMARY:The Bounty Hunters
DESCRIPTION:
URL:https://thebowery.com/event/the-bounty-hunters-5-2/2025-06-11/
LOCATION:The Bowery\, 110 9th Ave N\, Myrtle Beach\, 29577\, United States
ATTACH;FMTTYPE=image/jpeg:https://thebowery.com/wp-content/uploads/2024/10/BH-PROMO-6-scaled.jpg
END:VEVENT
BEGIN:VEVENT
DTSTART;TZID=America/New_York:20250612T203000
DTEND;TZID=America/New_York:20250612T203000
DTSTAMP:20260419T171416
CREATED:20250306T213550Z
LAST-MODIFIED:20251010T060459Z
UID:10001721-1749760200-1749760200@thebowery.com
SUMMARY:The Bounty Hunters
DESCRIPTION:
URL:https://thebowery.com/event/the-bounty-hunters-5-2/2025-06-12/
LOCATION:The Bowery\, 110 9th Ave N\, Myrtle Beach\, 29577\, United States
ATTACH;FMTTYPE=image/jpeg:https://thebowery.com/wp-content/uploads/2024/10/BH-PROMO-6-scaled.jpg
END:VEVENT
BEGIN:VEVENT
DTSTART;TZID=America/New_York:20250613T203000
DTEND;TZID=America/New_York:20250613T203000
DTSTAMP:20260419T171416
CREATED:20250306T213550Z
LAST-MODIFIED:20251010T060459Z
UID:10001722-1749846600-1749846600@thebowery.com
SUMMARY:The Bounty Hunters
DESCRIPTION:
URL:https://thebowery.com/event/the-bounty-hunters-5-2/2025-06-13/
LOCATION:The Bowery\, 110 9th Ave N\, Myrtle Beach\, 29577\, United States
ATTACH;FMTTYPE=image/jpeg:https://thebowery.com/wp-content/uploads/2024/10/BH-PROMO-6-scaled.jpg
END:VEVENT
BEGIN:VEVENT
DTSTART;TZID=America/New_York:20250614T203000
DTEND;TZID=America/New_York:20250614T203000
DTSTAMP:20260419T171416
CREATED:20250306T213550Z
LAST-MODIFIED:20251010T060459Z
UID:10001723-1749933000-1749933000@thebowery.com
SUMMARY:The Bounty Hunters
DESCRIPTION:
URL:https://thebowery.com/event/the-bounty-hunters-5-2/2025-06-14/
LOCATION:The Bowery\, 110 9th Ave N\, Myrtle Beach\, 29577\, United States
ATTACH;FMTTYPE=image/jpeg:https://thebowery.com/wp-content/uploads/2024/10/BH-PROMO-6-scaled.jpg
END:VEVENT
BEGIN:VEVENT
DTSTART;TZID=America/New_York:20250616T203000
DTEND;TZID=America/New_York:20250616T203000
DTSTAMP:20260419T171416
CREATED:20250306T213550Z
LAST-MODIFIED:20251010T060459Z
UID:10001724-1750105800-1750105800@thebowery.com
SUMMARY:The Bounty Hunters
DESCRIPTION:
URL:https://thebowery.com/event/the-bounty-hunters-5-2/2025-06-16/
LOCATION:The Bowery\, 110 9th Ave N\, Myrtle Beach\, 29577\, United States
ATTACH;FMTTYPE=image/jpeg:https://thebowery.com/wp-content/uploads/2024/10/BH-PROMO-6-scaled.jpg
END:VEVENT
BEGIN:VEVENT
DTSTART;TZID=America/New_York:20250617T203000
DTEND;TZID=America/New_York:20250617T203000
DTSTAMP:20260419T171416
CREATED:20250306T213550Z
LAST-MODIFIED:20251010T060459Z
UID:10001725-1750192200-1750192200@thebowery.com
SUMMARY:The Bounty Hunters
DESCRIPTION:
URL:https://thebowery.com/event/the-bounty-hunters-5-2/2025-06-17/
LOCATION:The Bowery\, 110 9th Ave N\, Myrtle Beach\, 29577\, United States
ATTACH;FMTTYPE=image/jpeg:https://thebowery.com/wp-content/uploads/2024/10/BH-PROMO-6-scaled.jpg
END:VEVENT
BEGIN:VEVENT
DTSTART;TZID=America/New_York:20250618T203000
DTEND;TZID=America/New_York:20250618T203000
DTSTAMP:20260419T171416
CREATED:20250306T213550Z
LAST-MODIFIED:20251010T060459Z
UID:10001726-1750278600-1750278600@thebowery.com
SUMMARY:The Bounty Hunters
DESCRIPTION:
URL:https://thebowery.com/event/the-bounty-hunters-5-2/2025-06-18/
LOCATION:The Bowery\, 110 9th Ave N\, Myrtle Beach\, 29577\, United States
ATTACH;FMTTYPE=image/jpeg:https://thebowery.com/wp-content/uploads/2024/10/BH-PROMO-6-scaled.jpg
END:VEVENT
BEGIN:VEVENT
DTSTART;TZID=America/New_York:20250619T203000
DTEND;TZID=America/New_York:20250619T203000
DTSTAMP:20260419T171416
CREATED:20250306T213550Z
LAST-MODIFIED:20251010T060459Z
UID:10001727-1750365000-1750365000@thebowery.com
SUMMARY:The Bounty Hunters
DESCRIPTION:
URL:https://thebowery.com/event/the-bounty-hunters-5-2/2025-06-19/
LOCATION:The Bowery\, 110 9th Ave N\, Myrtle Beach\, 29577\, United States
ATTACH;FMTTYPE=image/jpeg:https://thebowery.com/wp-content/uploads/2024/10/BH-PROMO-6-scaled.jpg
END:VEVENT
BEGIN:VEVENT
DTSTART;TZID=America/New_York:20250620T203000
DTEND;TZID=America/New_York:20250620T203000
DTSTAMP:20260419T171416
CREATED:20250306T213550Z
LAST-MODIFIED:20251010T060459Z
UID:10001728-1750451400-1750451400@thebowery.com
SUMMARY:The Bounty Hunters
DESCRIPTION:
URL:https://thebowery.com/event/the-bounty-hunters-5-2/2025-06-20/
LOCATION:The Bowery\, 110 9th Ave N\, Myrtle Beach\, 29577\, United States
ATTACH;FMTTYPE=image/jpeg:https://thebowery.com/wp-content/uploads/2024/10/BH-PROMO-6-scaled.jpg
END:VEVENT
BEGIN:VEVENT
DTSTART;TZID=America/New_York:20250621T203000
DTEND;TZID=America/New_York:20250621T203000
DTSTAMP:20260419T171416
CREATED:20250306T213550Z
LAST-MODIFIED:20251010T060459Z
UID:10001729-1750537800-1750537800@thebowery.com
SUMMARY:The Bounty Hunters
DESCRIPTION:
URL:https://thebowery.com/event/the-bounty-hunters-5-2/2025-06-21/
LOCATION:The Bowery\, 110 9th Ave N\, Myrtle Beach\, 29577\, United States
ATTACH;FMTTYPE=image/jpeg:https://thebowery.com/wp-content/uploads/2024/10/BH-PROMO-6-scaled.jpg
END:VEVENT
BEGIN:VEVENT
DTSTART;TZID=America/New_York:20250623T203000
DTEND;TZID=America/New_York:20250623T203000
DTSTAMP:20260419T171416
CREATED:20250306T213550Z
LAST-MODIFIED:20251010T060459Z
UID:10001730-1750710600-1750710600@thebowery.com
SUMMARY:The Bounty Hunters
DESCRIPTION:
URL:https://thebowery.com/event/the-bounty-hunters-5-2/2025-06-23/
LOCATION:The Bowery\, 110 9th Ave N\, Myrtle Beach\, 29577\, United States
ATTACH;FMTTYPE=image/jpeg:https://thebowery.com/wp-content/uploads/2024/10/BH-PROMO-6-scaled.jpg
END:VEVENT
BEGIN:VEVENT
DTSTART;TZID=America/New_York:20250624T203000
DTEND;TZID=America/New_York:20250624T203000
DTSTAMP:20260419T171416
CREATED:20250306T213550Z
LAST-MODIFIED:20251010T060459Z
UID:10001731-1750797000-1750797000@thebowery.com
SUMMARY:The Bounty Hunters
DESCRIPTION:
URL:https://thebowery.com/event/the-bounty-hunters-5-2/2025-06-24/
LOCATION:The Bowery\, 110 9th Ave N\, Myrtle Beach\, 29577\, United States
ATTACH;FMTTYPE=image/jpeg:https://thebowery.com/wp-content/uploads/2024/10/BH-PROMO-6-scaled.jpg
END:VEVENT
BEGIN:VEVENT
DTSTART;TZID=America/New_York:20250625T203000
DTEND;TZID=America/New_York:20250625T203000
DTSTAMP:20260419T171416
CREATED:20250306T213550Z
LAST-MODIFIED:20251010T060459Z
UID:10001732-1750883400-1750883400@thebowery.com
SUMMARY:The Bounty Hunters
DESCRIPTION:
URL:https://thebowery.com/event/the-bounty-hunters-5-2/2025-06-25/
LOCATION:The Bowery\, 110 9th Ave N\, Myrtle Beach\, 29577\, United States
ATTACH;FMTTYPE=image/jpeg:https://thebowery.com/wp-content/uploads/2024/10/BH-PROMO-6-scaled.jpg
END:VEVENT
BEGIN:VEVENT
DTSTART;TZID=America/New_York:20250626T203000
DTEND;TZID=America/New_York:20250626T203000
DTSTAMP:20260419T171416
CREATED:20250306T213550Z
LAST-MODIFIED:20251010T060459Z
UID:10001733-1750969800-1750969800@thebowery.com
SUMMARY:The Bounty Hunters
DESCRIPTION:
URL:https://thebowery.com/event/the-bounty-hunters-5-2/2025-06-26/
LOCATION:The Bowery\, 110 9th Ave N\, Myrtle Beach\, 29577\, United States
ATTACH;FMTTYPE=image/jpeg:https://thebowery.com/wp-content/uploads/2024/10/BH-PROMO-6-scaled.jpg
END:VEVENT
BEGIN:VEVENT
DTSTART;TZID=America/New_York:20250627T203000
DTEND;TZID=America/New_York:20250627T203000
DTSTAMP:20260419T171416
CREATED:20250306T213550Z
LAST-MODIFIED:20251010T060459Z
UID:10001734-1751056200-1751056200@thebowery.com
SUMMARY:The Bounty Hunters
DESCRIPTION:
URL:https://thebowery.com/event/the-bounty-hunters-5-2/2025-06-27/
LOCATION:The Bowery\, 110 9th Ave N\, Myrtle Beach\, 29577\, United States
ATTACH;FMTTYPE=image/jpeg:https://thebowery.com/wp-content/uploads/2024/10/BH-PROMO-6-scaled.jpg
END:VEVENT
BEGIN:VEVENT
DTSTART;TZID=America/New_York:20250628T203000
DTEND;TZID=America/New_York:20250628T203000
DTSTAMP:20260419T171416
CREATED:20250306T213550Z
LAST-MODIFIED:20251010T060459Z
UID:10001735-1751142600-1751142600@thebowery.com
SUMMARY:The Bounty Hunters
DESCRIPTION:
URL:https://thebowery.com/event/the-bounty-hunters-5-2/2025-06-28/
LOCATION:The Bowery\, 110 9th Ave N\, Myrtle Beach\, 29577\, United States
ATTACH;FMTTYPE=image/jpeg:https://thebowery.com/wp-content/uploads/2024/10/BH-PROMO-6-scaled.jpg
END:VEVENT
BEGIN:VEVENT
DTSTART;TZID=America/New_York:20250630T203000
DTEND;TZID=America/New_York:20250630T203000
DTSTAMP:20260419T171416
CREATED:20250306T213550Z
LAST-MODIFIED:20251010T060459Z
UID:10001736-1751315400-1751315400@thebowery.com
SUMMARY:The Bounty Hunters
DESCRIPTION:
URL:https://thebowery.com/event/the-bounty-hunters-5-2/2025-06-30/
LOCATION:The Bowery\, 110 9th Ave N\, Myrtle Beach\, 29577\, United States
ATTACH;FMTTYPE=image/jpeg:https://thebowery.com/wp-content/uploads/2024/10/BH-PROMO-6-scaled.jpg
END:VEVENT
BEGIN:VEVENT
DTSTART;TZID=America/New_York:20250701T203000
DTEND;TZID=America/New_York:20250701T203000
DTSTAMP:20260419T171416
CREATED:20250306T213550Z
LAST-MODIFIED:20251010T060459Z
UID:10001737-1751401800-1751401800@thebowery.com
SUMMARY:The Bounty Hunters
DESCRIPTION:
URL:https://thebowery.com/event/the-bounty-hunters-5-2/2025-07-01/
LOCATION:The Bowery\, 110 9th Ave N\, Myrtle Beach\, 29577\, United States
ATTACH;FMTTYPE=image/jpeg:https://thebowery.com/wp-content/uploads/2024/10/BH-PROMO-6-scaled.jpg
END:VEVENT
BEGIN:VEVENT
DTSTART;TZID=America/New_York:20250702T203000
DTEND;TZID=America/New_York:20250702T203000
DTSTAMP:20260419T171416
CREATED:20250306T213550Z
LAST-MODIFIED:20251010T060459Z
UID:10001738-1751488200-1751488200@thebowery.com
SUMMARY:The Bounty Hunters
DESCRIPTION:
URL:https://thebowery.com/event/the-bounty-hunters-5-2/2025-07-02/
LOCATION:The Bowery\, 110 9th Ave N\, Myrtle Beach\, 29577\, United States
ATTACH;FMTTYPE=image/jpeg:https://thebowery.com/wp-content/uploads/2024/10/BH-PROMO-6-scaled.jpg
END:VEVENT
BEGIN:VEVENT
DTSTART;TZID=America/New_York:20250703T203000
DTEND;TZID=America/New_York:20250703T203000
DTSTAMP:20260419T171416
CREATED:20250306T213550Z
LAST-MODIFIED:20251010T060459Z
UID:10001739-1751574600-1751574600@thebowery.com
SUMMARY:The Bounty Hunters
DESCRIPTION:
URL:https://thebowery.com/event/the-bounty-hunters-5-2/2025-07-03/
LOCATION:The Bowery\, 110 9th Ave N\, Myrtle Beach\, 29577\, United States
ATTACH;FMTTYPE=image/jpeg:https://thebowery.com/wp-content/uploads/2024/10/BH-PROMO-6-scaled.jpg
END:VEVENT
BEGIN:VEVENT
DTSTART;TZID=America/New_York:20250704T203000
DTEND;TZID=America/New_York:20250704T203000
DTSTAMP:20260419T171416
CREATED:20250306T213550Z
LAST-MODIFIED:20251010T060459Z
UID:10001740-1751661000-1751661000@thebowery.com
SUMMARY:The Bounty Hunters
DESCRIPTION:
URL:https://thebowery.com/event/the-bounty-hunters-5-2/2025-07-04/
LOCATION:The Bowery\, 110 9th Ave N\, Myrtle Beach\, 29577\, United States
ATTACH;FMTTYPE=image/jpeg:https://thebowery.com/wp-content/uploads/2024/10/BH-PROMO-6-scaled.jpg
END:VEVENT
END:VCALENDAR