BEGIN:VCALENDAR
VERSION:2.0
PRODID:-//The Bowery - ECPv6.15.20//NONSGML v1.0//EN
CALSCALE:GREGORIAN
METHOD:PUBLISH
X-ORIGINAL-URL:https://thebowery.com
X-WR-CALDESC:Events for The Bowery
REFRESH-INTERVAL;VALUE=DURATION:PT1H
X-Robots-Tag:noindex
X-PUBLISHED-TTL:PT1H
BEGIN:VTIMEZONE
TZID:America/New_York
BEGIN:DAYLIGHT
TZOFFSETFROM:-0500
TZOFFSETTO:-0400
TZNAME:EDT
DTSTART:20240310T070000
END:DAYLIGHT
BEGIN:STANDARD
TZOFFSETFROM:-0400
TZOFFSETTO:-0500
TZNAME:EST
DTSTART:20241103T060000
END:STANDARD
BEGIN:DAYLIGHT
TZOFFSETFROM:-0500
TZOFFSETTO:-0400
TZNAME:EDT
DTSTART:20250309T070000
END:DAYLIGHT
BEGIN:STANDARD
TZOFFSETFROM:-0400
TZOFFSETTO:-0500
TZNAME:EST
DTSTART:20251102T060000
END:STANDARD
BEGIN:DAYLIGHT
TZOFFSETFROM:-0500
TZOFFSETTO:-0400
TZNAME:EDT
DTSTART:20260308T070000
END:DAYLIGHT
BEGIN:STANDARD
TZOFFSETFROM:-0400
TZOFFSETTO:-0500
TZNAME:EST
DTSTART:20261101T060000
END:STANDARD
END:VTIMEZONE
BEGIN:VEVENT
DTSTART;TZID=America/New_York:20250520T203000
DTEND;TZID=America/New_York:20250520T203000
DTSTAMP:20260419T153341
CREATED:20250306T213550Z
LAST-MODIFIED:20251010T060459Z
UID:10001701-1747773000-1747773000@thebowery.com
SUMMARY:The Bounty Hunters
DESCRIPTION:
URL:https://thebowery.com/event/the-bounty-hunters-5-2/2025-05-20/
LOCATION:The Bowery\, 110 9th Ave N\, Myrtle Beach\, 29577\, United States
ATTACH;FMTTYPE=image/jpeg:https://thebowery.com/wp-content/uploads/2024/10/BH-PROMO-6-scaled.jpg
END:VEVENT
BEGIN:VEVENT
DTSTART;TZID=America/New_York:20250521T203000
DTEND;TZID=America/New_York:20250521T203000
DTSTAMP:20260419T153341
CREATED:20250306T213550Z
LAST-MODIFIED:20251010T060459Z
UID:10001702-1747859400-1747859400@thebowery.com
SUMMARY:The Bounty Hunters
DESCRIPTION:
URL:https://thebowery.com/event/the-bounty-hunters-5-2/2025-05-21/
LOCATION:The Bowery\, 110 9th Ave N\, Myrtle Beach\, 29577\, United States
ATTACH;FMTTYPE=image/jpeg:https://thebowery.com/wp-content/uploads/2024/10/BH-PROMO-6-scaled.jpg
END:VEVENT
BEGIN:VEVENT
DTSTART;TZID=America/New_York:20250522T203000
DTEND;TZID=America/New_York:20250522T203000
DTSTAMP:20260419T153341
CREATED:20250306T213550Z
LAST-MODIFIED:20251010T060459Z
UID:10001703-1747945800-1747945800@thebowery.com
SUMMARY:The Bounty Hunters
DESCRIPTION:
URL:https://thebowery.com/event/the-bounty-hunters-5-2/2025-05-22/
LOCATION:The Bowery\, 110 9th Ave N\, Myrtle Beach\, 29577\, United States
ATTACH;FMTTYPE=image/jpeg:https://thebowery.com/wp-content/uploads/2024/10/BH-PROMO-6-scaled.jpg
END:VEVENT
BEGIN:VEVENT
DTSTART;TZID=America/New_York:20250523T203000
DTEND;TZID=America/New_York:20250523T203000
DTSTAMP:20260419T153341
CREATED:20250306T213550Z
LAST-MODIFIED:20251010T060459Z
UID:10001704-1748032200-1748032200@thebowery.com
SUMMARY:The Bounty Hunters
DESCRIPTION:
URL:https://thebowery.com/event/the-bounty-hunters-5-2/2025-05-23/
LOCATION:The Bowery\, 110 9th Ave N\, Myrtle Beach\, 29577\, United States
ATTACH;FMTTYPE=image/jpeg:https://thebowery.com/wp-content/uploads/2024/10/BH-PROMO-6-scaled.jpg
END:VEVENT
BEGIN:VEVENT
DTSTART;TZID=America/New_York:20250524T203000
DTEND;TZID=America/New_York:20250524T203000
DTSTAMP:20260419T153341
CREATED:20250306T213550Z
LAST-MODIFIED:20251010T060459Z
UID:10001705-1748118600-1748118600@thebowery.com
SUMMARY:The Bounty Hunters
DESCRIPTION:
URL:https://thebowery.com/event/the-bounty-hunters-5-2/2025-05-24/
LOCATION:The Bowery\, 110 9th Ave N\, Myrtle Beach\, 29577\, United States
ATTACH;FMTTYPE=image/jpeg:https://thebowery.com/wp-content/uploads/2024/10/BH-PROMO-6-scaled.jpg
END:VEVENT
BEGIN:VEVENT
DTSTART;TZID=America/New_York:20250526T203000
DTEND;TZID=America/New_York:20250526T203000
DTSTAMP:20260419T153341
CREATED:20250306T213550Z
LAST-MODIFIED:20251010T060459Z
UID:10001706-1748291400-1748291400@thebowery.com
SUMMARY:The Bounty Hunters
DESCRIPTION:
URL:https://thebowery.com/event/the-bounty-hunters-5-2/2025-05-26/
LOCATION:The Bowery\, 110 9th Ave N\, Myrtle Beach\, 29577\, United States
ATTACH;FMTTYPE=image/jpeg:https://thebowery.com/wp-content/uploads/2024/10/BH-PROMO-6-scaled.jpg
END:VEVENT
BEGIN:VEVENT
DTSTART;TZID=America/New_York:20250527T203000
DTEND;TZID=America/New_York:20250527T203000
DTSTAMP:20260419T153341
CREATED:20250306T213550Z
LAST-MODIFIED:20251010T060459Z
UID:10001707-1748377800-1748377800@thebowery.com
SUMMARY:The Bounty Hunters
DESCRIPTION:
URL:https://thebowery.com/event/the-bounty-hunters-5-2/2025-05-27/
LOCATION:The Bowery\, 110 9th Ave N\, Myrtle Beach\, 29577\, United States
ATTACH;FMTTYPE=image/jpeg:https://thebowery.com/wp-content/uploads/2024/10/BH-PROMO-6-scaled.jpg
END:VEVENT
BEGIN:VEVENT
DTSTART;TZID=America/New_York:20250528T203000
DTEND;TZID=America/New_York:20250528T203000
DTSTAMP:20260419T153341
CREATED:20250306T213550Z
LAST-MODIFIED:20251010T060459Z
UID:10001708-1748464200-1748464200@thebowery.com
SUMMARY:The Bounty Hunters
DESCRIPTION:
URL:https://thebowery.com/event/the-bounty-hunters-5-2/2025-05-28/
LOCATION:The Bowery\, 110 9th Ave N\, Myrtle Beach\, 29577\, United States
ATTACH;FMTTYPE=image/jpeg:https://thebowery.com/wp-content/uploads/2024/10/BH-PROMO-6-scaled.jpg
END:VEVENT
BEGIN:VEVENT
DTSTART;TZID=America/New_York:20250529T203000
DTEND;TZID=America/New_York:20250529T203000
DTSTAMP:20260419T153341
CREATED:20250306T213550Z
LAST-MODIFIED:20251010T060459Z
UID:10001709-1748550600-1748550600@thebowery.com
SUMMARY:The Bounty Hunters
DESCRIPTION:
URL:https://thebowery.com/event/the-bounty-hunters-5-2/2025-05-29/
LOCATION:The Bowery\, 110 9th Ave N\, Myrtle Beach\, 29577\, United States
ATTACH;FMTTYPE=image/jpeg:https://thebowery.com/wp-content/uploads/2024/10/BH-PROMO-6-scaled.jpg
END:VEVENT
BEGIN:VEVENT
DTSTART;TZID=America/New_York:20250530T203000
DTEND;TZID=America/New_York:20250530T203000
DTSTAMP:20260419T153341
CREATED:20250306T213550Z
LAST-MODIFIED:20251010T060459Z
UID:10001710-1748637000-1748637000@thebowery.com
SUMMARY:The Bounty Hunters
DESCRIPTION:
URL:https://thebowery.com/event/the-bounty-hunters-5-2/2025-05-30/
LOCATION:The Bowery\, 110 9th Ave N\, Myrtle Beach\, 29577\, United States
ATTACH;FMTTYPE=image/jpeg:https://thebowery.com/wp-content/uploads/2024/10/BH-PROMO-6-scaled.jpg
END:VEVENT
BEGIN:VEVENT
DTSTART;TZID=America/New_York:20250531T203000
DTEND;TZID=America/New_York:20250531T203000
DTSTAMP:20260419T153341
CREATED:20250306T213550Z
LAST-MODIFIED:20251010T060459Z
UID:10001711-1748723400-1748723400@thebowery.com
SUMMARY:The Bounty Hunters
DESCRIPTION:
URL:https://thebowery.com/event/the-bounty-hunters-5-2/2025-05-31/
LOCATION:The Bowery\, 110 9th Ave N\, Myrtle Beach\, 29577\, United States
ATTACH;FMTTYPE=image/jpeg:https://thebowery.com/wp-content/uploads/2024/10/BH-PROMO-6-scaled.jpg
END:VEVENT
BEGIN:VEVENT
DTSTART;TZID=America/New_York:20250602T203000
DTEND;TZID=America/New_York:20250602T203000
DTSTAMP:20260419T153341
CREATED:20250306T213550Z
LAST-MODIFIED:20251010T060459Z
UID:10001712-1748896200-1748896200@thebowery.com
SUMMARY:The Bounty Hunters
DESCRIPTION:
URL:https://thebowery.com/event/the-bounty-hunters-5-2/2025-06-02/
LOCATION:The Bowery\, 110 9th Ave N\, Myrtle Beach\, 29577\, United States
ATTACH;FMTTYPE=image/jpeg:https://thebowery.com/wp-content/uploads/2024/10/BH-PROMO-6-scaled.jpg
END:VEVENT
BEGIN:VEVENT
DTSTART;TZID=America/New_York:20250603T203000
DTEND;TZID=America/New_York:20250603T203000
DTSTAMP:20260419T153341
CREATED:20250306T213550Z
LAST-MODIFIED:20251010T060459Z
UID:10001713-1748982600-1748982600@thebowery.com
SUMMARY:The Bounty Hunters
DESCRIPTION:
URL:https://thebowery.com/event/the-bounty-hunters-5-2/2025-06-03/
LOCATION:The Bowery\, 110 9th Ave N\, Myrtle Beach\, 29577\, United States
ATTACH;FMTTYPE=image/jpeg:https://thebowery.com/wp-content/uploads/2024/10/BH-PROMO-6-scaled.jpg
END:VEVENT
BEGIN:VEVENT
DTSTART;TZID=America/New_York:20250604T203000
DTEND;TZID=America/New_York:20250604T203000
DTSTAMP:20260419T153341
CREATED:20250306T213550Z
LAST-MODIFIED:20251010T060459Z
UID:10001714-1749069000-1749069000@thebowery.com
SUMMARY:The Bounty Hunters
DESCRIPTION:
URL:https://thebowery.com/event/the-bounty-hunters-5-2/2025-06-04/
LOCATION:The Bowery\, 110 9th Ave N\, Myrtle Beach\, 29577\, United States
ATTACH;FMTTYPE=image/jpeg:https://thebowery.com/wp-content/uploads/2024/10/BH-PROMO-6-scaled.jpg
END:VEVENT
BEGIN:VEVENT
DTSTART;TZID=America/New_York:20250605T180000
DTEND;TZID=America/New_York:20250605T190000
DTSTAMP:20260419T153341
CREATED:20250605T120219Z
LAST-MODIFIED:20250605T120219Z
UID:10001829-1749146400-1749150000@thebowery.com
SUMMARY:Dalton Hicks
DESCRIPTION:
URL:https://thebowery.com/event/dalton-hicks-3/
LOCATION:The Bowery\, 110 9th Ave N\, Myrtle Beach\, 29577\, United States
END:VEVENT
BEGIN:VEVENT
DTSTART;TZID=America/New_York:20250605T200000
DTEND;TZID=America/New_York:20250605T220000
DTSTAMP:20260419T153341
CREATED:20250605T120219Z
LAST-MODIFIED:20250605T120219Z
UID:10001830-1749153600-1749160800@thebowery.com
SUMMARY:The Bounty Hunters
DESCRIPTION:
URL:https://thebowery.com/event/the-bounty-hunters-6/
LOCATION:The Bowery\, 110 9th Ave N\, Myrtle Beach\, 29577\, United States
END:VEVENT
BEGIN:VEVENT
DTSTART;TZID=America/New_York:20250606T000000
DTEND;TZID=America/New_York:20250606T000000
DTSTAMP:20260419T153341
CREATED:20250605T120219Z
LAST-MODIFIED:20250605T121954Z
UID:10001831-1749168000-1749168000@thebowery.com
SUMMARY:Thomas Edwards
DESCRIPTION:👉 Buy Tickets Now
URL:https://thebowery.com/event/thomas-edwards/
LOCATION:The Bowery\, 110 9th Ave N\, Myrtle Beach\, 29577\, United States
ATTACH;FMTTYPE=image/jpeg:https://thebowery.com/wp-content/uploads/2025/06/0035_ThomasEdwards_PhotographerThomasCrabtree_Apr172024-2560x1440-1.jpg
END:VEVENT
BEGIN:VEVENT
DTSTART;TZID=America/New_York:20250606T153000
DTEND;TZID=America/New_York:20250606T153000
DTSTAMP:20260419T153341
CREATED:20250605T120220Z
LAST-MODIFIED:20250605T120220Z
UID:10001832-1749223800-1749223800@thebowery.com
SUMMARY:Kyle Dills
DESCRIPTION:
URL:https://thebowery.com/event/kyle-dills/
LOCATION:The Bowery\, 110 9th Ave N\, Myrtle Beach\, 29577\, United States
END:VEVENT
BEGIN:VEVENT
DTSTART;TZID=America/New_York:20250606T180000
DTEND;TZID=America/New_York:20250606T180000
DTSTAMP:20260419T153341
CREATED:20250605T120220Z
LAST-MODIFIED:20250605T120220Z
UID:10001833-1749232800-1749232800@thebowery.com
SUMMARY:Emory West
DESCRIPTION:
URL:https://thebowery.com/event/emory-west-2/
LOCATION:The Bowery\, 110 9th Ave N\, Myrtle Beach\, 29577\, United States
END:VEVENT
BEGIN:VEVENT
DTSTART;TZID=America/New_York:20250606T200000
DTEND;TZID=America/New_York:20250606T200000
DTSTAMP:20260419T153341
CREATED:20250605T120222Z
LAST-MODIFIED:20250605T120222Z
UID:10001834-1749240000-1749240000@thebowery.com
SUMMARY:The Bounty Hunters
DESCRIPTION:
URL:https://thebowery.com/event/the-bounty-hunters-7/
LOCATION:The Bowery\, 110 9th Ave N\, Myrtle Beach\, 29577\, United States
END:VEVENT
BEGIN:VEVENT
DTSTART;TZID=America/New_York:20250607T000000
DTEND;TZID=America/New_York:20250607T000000
DTSTAMP:20260419T153341
CREATED:20250605T120223Z
LAST-MODIFIED:20250605T122019Z
UID:10001837-1749254400-1749254400@thebowery.com
SUMMARY:The Davisson Brothers Band
DESCRIPTION:👉 Buy Tickets Now
URL:https://thebowery.com/event/the-davisson-brothers-band/
LOCATION:The Bowery\, 110 9th Ave N\, Myrtle Beach\, 29577\, United States
ATTACH;FMTTYPE=image/jpeg:https://thebowery.com/wp-content/uploads/2025/06/DAVISSON-BROTHERS-BAND-IMAGE-001-8153X5433-062019-001-scaled.jpg
END:VEVENT
BEGIN:VEVENT
DTSTART;TZID=America/New_York:20250607T130000
DTEND;TZID=America/New_York:20250607T130000
DTSTAMP:20260419T153341
CREATED:20250605T120222Z
LAST-MODIFIED:20250605T120222Z
UID:10001835-1749301200-1749301200@thebowery.com
SUMMARY:Ray Wag
DESCRIPTION:
URL:https://thebowery.com/event/ray-wag/
LOCATION:The Bowery\, 110 9th Ave N\, Myrtle Beach\, 29577\, United States
END:VEVENT
BEGIN:VEVENT
DTSTART;TZID=America/New_York:20250607T130000
DTEND;TZID=America/New_York:20250607T150000
DTSTAMP:20260419T153341
CREATED:20250607T172743Z
LAST-MODIFIED:20250607T172743Z
UID:10001845-1749301200-1749308400@thebowery.com
SUMMARY:Ray Wag
DESCRIPTION:
URL:https://thebowery.com/event/ray-wag-2/
LOCATION:The Bowery\, 110 9th Ave N\, Myrtle Beach\, 29577\, United States
END:VEVENT
BEGIN:VEVENT
DTSTART;TZID=America/New_York:20250607T153000
DTEND;TZID=America/New_York:20250607T153000
DTSTAMP:20260419T153341
CREATED:20250605T120224Z
LAST-MODIFIED:20250607T171138Z
UID:10001839-1749310200-1749310200@thebowery.com
SUMMARY:Bailey Marie
DESCRIPTION:
URL:https://thebowery.com/event/bailey-marie/
LOCATION:The Bowery\, 110 9th Ave N\, Myrtle Beach\, 29577\, United States
END:VEVENT
BEGIN:VEVENT
DTSTART;TZID=America/New_York:20250607T180000
DTEND;TZID=America/New_York:20250607T200000
DTSTAMP:20260419T153341
CREATED:20250607T171240Z
LAST-MODIFIED:20250607T171338Z
UID:10001843-1749319200-1749326400@thebowery.com
SUMMARY:Ryan Trotti
DESCRIPTION:
URL:https://thebowery.com/event/ryan-trotti/
LOCATION:The Bowery\, 110 9th Ave N\, Myrtle Beach\, 29577\, United States
END:VEVENT
BEGIN:VEVENT
DTSTART;TZID=America/New_York:20250607T200000
DTEND;TZID=America/New_York:20250607T200000
DTSTAMP:20260419T153341
CREATED:20250605T120222Z
LAST-MODIFIED:20250605T120222Z
UID:10001836-1749326400-1749326400@thebowery.com
SUMMARY:The Bounty Hunters
DESCRIPTION:
URL:https://thebowery.com/event/the-bounty-hunters-8/
LOCATION:The Bowery\, 110 9th Ave N\, Myrtle Beach\, 29577\, United States
END:VEVENT
BEGIN:VEVENT
DTSTART;TZID=America/New_York:20250607T233000
DTEND;TZID=America/New_York:20250608T013000
DTSTAMP:20260419T153341
CREATED:20250607T171515Z
LAST-MODIFIED:20250607T171709Z
UID:10001844-1749339000-1749346200@thebowery.com
SUMMARY:Mariah Faith & The Bailey Road Band
DESCRIPTION:
URL:https://thebowery.com/event/mariah-faith-the-bailey-road-band/
LOCATION:The Bowery\, 110 9th Ave N\, Myrtle Beach\, 29577\, United States
END:VEVENT
BEGIN:VEVENT
DTSTART;TZID=America/New_York:20250608T130000
DTEND;TZID=America/New_York:20250608T130000
DTSTAMP:20260419T153341
CREATED:20250605T120223Z
LAST-MODIFIED:20250605T120223Z
UID:10001838-1749387600-1749387600@thebowery.com
SUMMARY:Coley Williams
DESCRIPTION:
URL:https://thebowery.com/event/coley-williams-4/
LOCATION:The Bowery\, 110 9th Ave N\, Myrtle Beach\, 29577\, United States
END:VEVENT
BEGIN:VEVENT
DTSTART;TZID=America/New_York:20250608T180000
DTEND;TZID=America/New_York:20250608T180000
DTSTAMP:20260419T153341
CREATED:20250605T120224Z
LAST-MODIFIED:20250605T120224Z
UID:10001840-1749405600-1749405600@thebowery.com
SUMMARY:Dalton Davis
DESCRIPTION:
URL:https://thebowery.com/event/dalton-davis-3/
LOCATION:The Bowery\, 110 9th Ave N\, Myrtle Beach\, 29577\, United States
END:VEVENT
BEGIN:VEVENT
DTSTART;TZID=America/New_York:20250608T200000
DTEND;TZID=America/New_York:20250608T200000
DTSTAMP:20260419T153341
CREATED:20250605T120224Z
LAST-MODIFIED:20250605T120224Z
UID:10001841-1749412800-1749412800@thebowery.com
SUMMARY:The Bounty Hunters
DESCRIPTION:
URL:https://thebowery.com/event/the-bounty-hunters-9/
LOCATION:The Bowery\, 110 9th Ave N\, Myrtle Beach\, 29577\, United States
END:VEVENT
END:VCALENDAR