BEGIN:VCALENDAR
VERSION:2.0
PRODID:-//The Bowery - ECPv6.15.20//NONSGML v1.0//EN
CALSCALE:GREGORIAN
METHOD:PUBLISH
X-WR-CALNAME:The Bowery
X-ORIGINAL-URL:https://thebowery.com
X-WR-CALDESC:Events for The Bowery
REFRESH-INTERVAL;VALUE=DURATION:PT1H
X-Robots-Tag:noindex
X-PUBLISHED-TTL:PT1H
BEGIN:VTIMEZONE
TZID:America/New_York
BEGIN:DAYLIGHT
TZOFFSETFROM:-0500
TZOFFSETTO:-0400
TZNAME:EDT
DTSTART:20230312T070000
END:DAYLIGHT
BEGIN:STANDARD
TZOFFSETFROM:-0400
TZOFFSETTO:-0500
TZNAME:EST
DTSTART:20231105T060000
END:STANDARD
BEGIN:DAYLIGHT
TZOFFSETFROM:-0500
TZOFFSETTO:-0400
TZNAME:EDT
DTSTART:20240310T070000
END:DAYLIGHT
BEGIN:STANDARD
TZOFFSETFROM:-0400
TZOFFSETTO:-0500
TZNAME:EST
DTSTART:20241103T060000
END:STANDARD
BEGIN:DAYLIGHT
TZOFFSETFROM:-0500
TZOFFSETTO:-0400
TZNAME:EDT
DTSTART:20250309T070000
END:DAYLIGHT
BEGIN:STANDARD
TZOFFSETFROM:-0400
TZOFFSETTO:-0500
TZNAME:EST
DTSTART:20251102T060000
END:STANDARD
END:VTIMEZONE
BEGIN:VEVENT
DTSTART;TZID=America/New_York:20241231T200000
DTEND;TZID=America/New_York:20241231T200000
DTSTAMP:20260420T161553
CREATED:20241220T015327Z
LAST-MODIFIED:20241231T010454Z
UID:10001652-1735675200-1735675200@thebowery.com
SUMMARY:The Bounty Hunters NYE
DESCRIPTION:
URL:https://thebowery.com/event/the-bounty-hunters-nye/
LOCATION:The Bowery\, 110 9th Ave N\, Myrtle Beach\, 29577\, United States
ATTACH;FMTTYPE=image/jpeg:https://thebowery.com/wp-content/uploads/2024/10/BH-PROMO-6-scaled.jpg
END:VEVENT
BEGIN:VEVENT
DTSTART;TZID=America/New_York:20241228T203000
DTEND;TZID=America/New_York:20241228T203000
DTSTAMP:20260420T161553
CREATED:20241014T093459Z
LAST-MODIFIED:20250306T062215Z
UID:10001594-1735417800-1735417800@thebowery.com
SUMMARY:The Bounty Hunters
DESCRIPTION:
URL:https://thebowery.com/event/the-bounty-hunters-2/2024-12-28/
LOCATION:The Bowery\, 110 9th Ave N\, Myrtle Beach\, 29577\, United States
ATTACH;FMTTYPE=image/jpeg:https://thebowery.com/wp-content/uploads/2024/10/BH-PROMO-6-scaled.jpg
END:VEVENT
BEGIN:VEVENT
DTSTART;TZID=America/New_York:20241227T203000
DTEND;TZID=America/New_York:20241227T203000
DTSTAMP:20260420T161553
CREATED:20241014T093459Z
LAST-MODIFIED:20250306T062215Z
UID:10001593-1735331400-1735331400@thebowery.com
SUMMARY:The Bounty Hunters
DESCRIPTION:
URL:https://thebowery.com/event/the-bounty-hunters-2/2024-12-27/
LOCATION:The Bowery\, 110 9th Ave N\, Myrtle Beach\, 29577\, United States
ATTACH;FMTTYPE=image/jpeg:https://thebowery.com/wp-content/uploads/2024/10/BH-PROMO-6-scaled.jpg
END:VEVENT
BEGIN:VEVENT
DTSTART;TZID=America/New_York:20241221T203000
DTEND;TZID=America/New_York:20241221T203000
DTSTAMP:20260420T161553
CREATED:20241014T093459Z
LAST-MODIFIED:20250306T062215Z
UID:10001592-1734813000-1734813000@thebowery.com
SUMMARY:The Bounty Hunters
DESCRIPTION:
URL:https://thebowery.com/event/the-bounty-hunters-2/2024-12-21/
LOCATION:The Bowery\, 110 9th Ave N\, Myrtle Beach\, 29577\, United States
ATTACH;FMTTYPE=image/jpeg:https://thebowery.com/wp-content/uploads/2024/10/BH-PROMO-6-scaled.jpg
END:VEVENT
BEGIN:VEVENT
DTSTART;TZID=America/New_York:20241220T203000
DTEND;TZID=America/New_York:20241220T203000
DTSTAMP:20260420T161553
CREATED:20241014T093459Z
LAST-MODIFIED:20250306T062215Z
UID:10001591-1734726600-1734726600@thebowery.com
SUMMARY:The Bounty Hunters
DESCRIPTION:
URL:https://thebowery.com/event/the-bounty-hunters-2/2024-12-20/
LOCATION:The Bowery\, 110 9th Ave N\, Myrtle Beach\, 29577\, United States
ATTACH;FMTTYPE=image/jpeg:https://thebowery.com/wp-content/uploads/2024/10/BH-PROMO-6-scaled.jpg
END:VEVENT
BEGIN:VEVENT
DTSTART;TZID=America/New_York:20241214T203000
DTEND;TZID=America/New_York:20241214T203000
DTSTAMP:20260420T161553
CREATED:20241014T093459Z
LAST-MODIFIED:20250306T062215Z
UID:10001590-1734208200-1734208200@thebowery.com
SUMMARY:The Bounty Hunters
DESCRIPTION:
URL:https://thebowery.com/event/the-bounty-hunters-2/2024-12-14/
LOCATION:The Bowery\, 110 9th Ave N\, Myrtle Beach\, 29577\, United States
ATTACH;FMTTYPE=image/jpeg:https://thebowery.com/wp-content/uploads/2024/10/BH-PROMO-6-scaled.jpg
END:VEVENT
BEGIN:VEVENT
DTSTART;TZID=America/New_York:20241213T203000
DTEND;TZID=America/New_York:20241213T203000
DTSTAMP:20260420T161553
CREATED:20241014T093459Z
LAST-MODIFIED:20250306T062215Z
UID:10001589-1734121800-1734121800@thebowery.com
SUMMARY:The Bounty Hunters
DESCRIPTION:
URL:https://thebowery.com/event/the-bounty-hunters-2/2024-12-13/
LOCATION:The Bowery\, 110 9th Ave N\, Myrtle Beach\, 29577\, United States
ATTACH;FMTTYPE=image/jpeg:https://thebowery.com/wp-content/uploads/2024/10/BH-PROMO-6-scaled.jpg
END:VEVENT
BEGIN:VEVENT
DTSTART;TZID=America/New_York:20241207T203000
DTEND;TZID=America/New_York:20241207T203000
DTSTAMP:20260420T161553
CREATED:20241014T093459Z
LAST-MODIFIED:20250306T062215Z
UID:10001588-1733603400-1733603400@thebowery.com
SUMMARY:The Bounty Hunters
DESCRIPTION:
URL:https://thebowery.com/event/the-bounty-hunters-2/2024-12-07/
LOCATION:The Bowery\, 110 9th Ave N\, Myrtle Beach\, 29577\, United States
ATTACH;FMTTYPE=image/jpeg:https://thebowery.com/wp-content/uploads/2024/10/BH-PROMO-6-scaled.jpg
END:VEVENT
BEGIN:VEVENT
DTSTART;TZID=America/New_York:20241206T203000
DTEND;TZID=America/New_York:20241206T203000
DTSTAMP:20260420T161553
CREATED:20241014T093459Z
LAST-MODIFIED:20250306T062215Z
UID:10001587-1733517000-1733517000@thebowery.com
SUMMARY:The Bounty Hunters
DESCRIPTION:
URL:https://thebowery.com/event/the-bounty-hunters-2/2024-12-06/
LOCATION:The Bowery\, 110 9th Ave N\, Myrtle Beach\, 29577\, United States
ATTACH;FMTTYPE=image/jpeg:https://thebowery.com/wp-content/uploads/2024/10/BH-PROMO-6-scaled.jpg
END:VEVENT
BEGIN:VEVENT
DTSTART;TZID=America/New_York:20241130T203000
DTEND;TZID=America/New_York:20241130T203000
DTSTAMP:20260420T161553
CREATED:20241014T093459Z
LAST-MODIFIED:20250306T062215Z
UID:10001586-1732998600-1732998600@thebowery.com
SUMMARY:The Bounty Hunters
DESCRIPTION:
URL:https://thebowery.com/event/the-bounty-hunters-2/2024-11-30/
LOCATION:The Bowery\, 110 9th Ave N\, Myrtle Beach\, 29577\, United States
ATTACH;FMTTYPE=image/jpeg:https://thebowery.com/wp-content/uploads/2024/10/BH-PROMO-6-scaled.jpg
END:VEVENT
BEGIN:VEVENT
DTSTART;TZID=America/New_York:20241129T203000
DTEND;TZID=America/New_York:20241129T203000
DTSTAMP:20260420T161553
CREATED:20241014T093459Z
LAST-MODIFIED:20250306T062215Z
UID:10001585-1732912200-1732912200@thebowery.com
SUMMARY:The Bounty Hunters
DESCRIPTION:
URL:https://thebowery.com/event/the-bounty-hunters-2/2024-11-29/
LOCATION:The Bowery\, 110 9th Ave N\, Myrtle Beach\, 29577\, United States
ATTACH;FMTTYPE=image/jpeg:https://thebowery.com/wp-content/uploads/2024/10/BH-PROMO-6-scaled.jpg
END:VEVENT
BEGIN:VEVENT
DTSTART;TZID=America/New_York:20241123T203000
DTEND;TZID=America/New_York:20241123T203000
DTSTAMP:20260420T161553
CREATED:20241014T093459Z
LAST-MODIFIED:20250306T062215Z
UID:10001584-1732393800-1732393800@thebowery.com
SUMMARY:The Bounty Hunters
DESCRIPTION:
URL:https://thebowery.com/event/the-bounty-hunters-2/2024-11-23/
LOCATION:The Bowery\, 110 9th Ave N\, Myrtle Beach\, 29577\, United States
ATTACH;FMTTYPE=image/jpeg:https://thebowery.com/wp-content/uploads/2024/10/BH-PROMO-6-scaled.jpg
END:VEVENT
BEGIN:VEVENT
DTSTART;TZID=America/New_York:20241122T203000
DTEND;TZID=America/New_York:20241122T203000
DTSTAMP:20260420T161553
CREATED:20241014T093459Z
LAST-MODIFIED:20250306T062215Z
UID:10001583-1732307400-1732307400@thebowery.com
SUMMARY:The Bounty Hunters
DESCRIPTION:
URL:https://thebowery.com/event/the-bounty-hunters-2/2024-11-22/
LOCATION:The Bowery\, 110 9th Ave N\, Myrtle Beach\, 29577\, United States
ATTACH;FMTTYPE=image/jpeg:https://thebowery.com/wp-content/uploads/2024/10/BH-PROMO-6-scaled.jpg
END:VEVENT
BEGIN:VEVENT
DTSTART;TZID=America/New_York:20241121T203000
DTEND;TZID=America/New_York:20241121T203000
DTSTAMP:20260420T161553
CREATED:20241014T094630Z
LAST-MODIFIED:20241014T094834Z
UID:10001599-1732221000-1732221000@thebowery.com
SUMMARY:The Bounty Hunters
DESCRIPTION:
URL:https://thebowery.com/event/the-bounty-hunters-4/2024-11-21/
LOCATION:The Bowery\, 110 9th Ave N\, Myrtle Beach\, 29577\, United States
ATTACH;FMTTYPE=image/jpeg:https://thebowery.com/wp-content/uploads/2024/10/BH-PROMO-6-scaled.jpg
END:VEVENT
BEGIN:VEVENT
DTSTART;TZID=America/New_York:20241117T190000
DTEND;TZID=America/New_York:20241117T220000
DTSTAMP:20260420T161553
CREATED:20241117T220555Z
LAST-MODIFIED:20241117T220858Z
UID:10000417-1731870000-1731880800@thebowery.com
SUMMARY:Johnny White
DESCRIPTION:
URL:https://thebowery.com/event/johnny-white-2/
LOCATION:Duffy’s at The Bowery\, 110 9th Ave N\, Myrtle Beach\, SC\, 29577\, United States
ATTACH;FMTTYPE=image/jpeg:https://thebowery.com/wp-content/uploads/2024/11/IMG_2494-e1731881322872.jpg
END:VEVENT
BEGIN:VEVENT
DTSTART;TZID=America/New_York:20241116T203000
DTEND;TZID=America/New_York:20241116T203000
DTSTAMP:20260420T161553
CREATED:20241014T093459Z
LAST-MODIFIED:20250306T062215Z
UID:10001582-1731789000-1731789000@thebowery.com
SUMMARY:The Bounty Hunters
DESCRIPTION:
URL:https://thebowery.com/event/the-bounty-hunters-2/2024-11-16/
LOCATION:The Bowery\, 110 9th Ave N\, Myrtle Beach\, 29577\, United States
ATTACH;FMTTYPE=image/jpeg:https://thebowery.com/wp-content/uploads/2024/10/BH-PROMO-6-scaled.jpg
END:VEVENT
BEGIN:VEVENT
DTSTART;TZID=America/New_York:20241115T203000
DTEND;TZID=America/New_York:20241115T203000
DTSTAMP:20260420T161553
CREATED:20241014T093459Z
LAST-MODIFIED:20250306T062215Z
UID:10001581-1731702600-1731702600@thebowery.com
SUMMARY:The Bounty Hunters
DESCRIPTION:
URL:https://thebowery.com/event/the-bounty-hunters-2/2024-11-15/
LOCATION:The Bowery\, 110 9th Ave N\, Myrtle Beach\, 29577\, United States
ATTACH;FMTTYPE=image/jpeg:https://thebowery.com/wp-content/uploads/2024/10/BH-PROMO-6-scaled.jpg
END:VEVENT
BEGIN:VEVENT
DTSTART;TZID=America/New_York:20241114T203000
DTEND;TZID=America/New_York:20241114T203000
DTSTAMP:20260420T161553
CREATED:20241014T094630Z
LAST-MODIFIED:20241014T094834Z
UID:10001598-1731616200-1731616200@thebowery.com
SUMMARY:The Bounty Hunters
DESCRIPTION:
URL:https://thebowery.com/event/the-bounty-hunters-4/2024-11-14/
LOCATION:The Bowery\, 110 9th Ave N\, Myrtle Beach\, 29577\, United States
ATTACH;FMTTYPE=image/jpeg:https://thebowery.com/wp-content/uploads/2024/10/BH-PROMO-6-scaled.jpg
END:VEVENT
BEGIN:VEVENT
DTSTART;TZID=America/New_York:20241109T203000
DTEND;TZID=America/New_York:20241109T203000
DTSTAMP:20260420T161553
CREATED:20241014T093459Z
LAST-MODIFIED:20250306T062215Z
UID:10001580-1731184200-1731184200@thebowery.com
SUMMARY:The Bounty Hunters
DESCRIPTION:
URL:https://thebowery.com/event/the-bounty-hunters-2/2024-11-09/
LOCATION:The Bowery\, 110 9th Ave N\, Myrtle Beach\, 29577\, United States
ATTACH;FMTTYPE=image/jpeg:https://thebowery.com/wp-content/uploads/2024/10/BH-PROMO-6-scaled.jpg
END:VEVENT
BEGIN:VEVENT
DTSTART;TZID=America/New_York:20241108T203000
DTEND;TZID=America/New_York:20241108T203000
DTSTAMP:20260420T161553
CREATED:20241014T093459Z
LAST-MODIFIED:20250306T062215Z
UID:10001579-1731097800-1731097800@thebowery.com
SUMMARY:The Bounty Hunters
DESCRIPTION:
URL:https://thebowery.com/event/the-bounty-hunters-2/2024-11-08/
LOCATION:The Bowery\, 110 9th Ave N\, Myrtle Beach\, 29577\, United States
ATTACH;FMTTYPE=image/jpeg:https://thebowery.com/wp-content/uploads/2024/10/BH-PROMO-6-scaled.jpg
END:VEVENT
BEGIN:VEVENT
DTSTART;TZID=America/New_York:20241107T203000
DTEND;TZID=America/New_York:20241107T203000
DTSTAMP:20260420T161553
CREATED:20241014T094630Z
LAST-MODIFIED:20241014T094834Z
UID:10001597-1731011400-1731011400@thebowery.com
SUMMARY:The Bounty Hunters
DESCRIPTION:
URL:https://thebowery.com/event/the-bounty-hunters-4/2024-11-07/
LOCATION:The Bowery\, 110 9th Ave N\, Myrtle Beach\, 29577\, United States
ATTACH;FMTTYPE=image/jpeg:https://thebowery.com/wp-content/uploads/2024/10/BH-PROMO-6-scaled.jpg
END:VEVENT
BEGIN:VEVENT
DTSTART;TZID=America/New_York:20241102T203000
DTEND;TZID=America/New_York:20241102T203000
DTSTAMP:20260420T161553
CREATED:20241014T093459Z
LAST-MODIFIED:20250306T062215Z
UID:10001578-1730579400-1730579400@thebowery.com
SUMMARY:The Bounty Hunters
DESCRIPTION:
URL:https://thebowery.com/event/the-bounty-hunters-2/2024-11-02/
LOCATION:The Bowery\, 110 9th Ave N\, Myrtle Beach\, 29577\, United States
ATTACH;FMTTYPE=image/jpeg:https://thebowery.com/wp-content/uploads/2024/10/BH-PROMO-6-scaled.jpg
END:VEVENT
BEGIN:VEVENT
DTSTART;TZID=America/New_York:20241101T203000
DTEND;TZID=America/New_York:20241101T203000
DTSTAMP:20260420T161553
CREATED:20241014T093459Z
LAST-MODIFIED:20250306T062215Z
UID:10001577-1730493000-1730493000@thebowery.com
SUMMARY:The Bounty Hunters
DESCRIPTION:
URL:https://thebowery.com/event/the-bounty-hunters-2/2024-11-01/
LOCATION:The Bowery\, 110 9th Ave N\, Myrtle Beach\, 29577\, United States
ATTACH;FMTTYPE=image/jpeg:https://thebowery.com/wp-content/uploads/2024/10/BH-PROMO-6-scaled.jpg
END:VEVENT
BEGIN:VEVENT
DTSTART;TZID=America/New_York:20241031T203000
DTEND;TZID=America/New_York:20241031T203000
DTSTAMP:20260420T161553
CREATED:20241014T094630Z
LAST-MODIFIED:20241014T094834Z
UID:10001596-1730406600-1730406600@thebowery.com
SUMMARY:The Bounty Hunters
DESCRIPTION:
URL:https://thebowery.com/event/the-bounty-hunters-4/2024-10-31/
LOCATION:The Bowery\, 110 9th Ave N\, Myrtle Beach\, 29577\, United States
ATTACH;FMTTYPE=image/jpeg:https://thebowery.com/wp-content/uploads/2024/10/BH-PROMO-6-scaled.jpg
END:VEVENT
BEGIN:VEVENT
DTSTART;TZID=America/New_York:20241026T203000
DTEND;TZID=America/New_York:20241026T203000
DTSTAMP:20260420T161553
CREATED:20241014T093459Z
LAST-MODIFIED:20250306T062215Z
UID:10001576-1729974600-1729974600@thebowery.com
SUMMARY:The Bounty Hunters
DESCRIPTION:
URL:https://thebowery.com/event/the-bounty-hunters-2/2024-10-26/
LOCATION:The Bowery\, 110 9th Ave N\, Myrtle Beach\, 29577\, United States
ATTACH;FMTTYPE=image/jpeg:https://thebowery.com/wp-content/uploads/2024/10/BH-PROMO-6-scaled.jpg
END:VEVENT
BEGIN:VEVENT
DTSTART;TZID=America/New_York:20241025T203000
DTEND;TZID=America/New_York:20241025T203000
DTSTAMP:20260420T161553
CREATED:20241014T093459Z
LAST-MODIFIED:20250306T062215Z
UID:10001575-1729888200-1729888200@thebowery.com
SUMMARY:The Bounty Hunters
DESCRIPTION:
URL:https://thebowery.com/event/the-bounty-hunters-2/2024-10-25/
LOCATION:The Bowery\, 110 9th Ave N\, Myrtle Beach\, 29577\, United States
ATTACH;FMTTYPE=image/jpeg:https://thebowery.com/wp-content/uploads/2024/10/BH-PROMO-6-scaled.jpg
END:VEVENT
BEGIN:VEVENT
DTSTART;TZID=America/New_York:20241024T203000
DTEND;TZID=America/New_York:20241024T203000
DTSTAMP:20260420T161553
CREATED:20241014T094630Z
LAST-MODIFIED:20241014T094834Z
UID:10001595-1729801800-1729801800@thebowery.com
SUMMARY:The Bounty Hunters
DESCRIPTION:
URL:https://thebowery.com/event/the-bounty-hunters-4/2024-10-24/
LOCATION:The Bowery\, 110 9th Ave N\, Myrtle Beach\, 29577\, United States
ATTACH;FMTTYPE=image/jpeg:https://thebowery.com/wp-content/uploads/2024/10/BH-PROMO-6-scaled.jpg
END:VEVENT
BEGIN:VEVENT
DTSTART;TZID=America/New_York:20241019T203000
DTEND;TZID=America/New_York:20241019T203000
DTSTAMP:20260420T161553
CREATED:20241014T085720Z
LAST-MODIFIED:20241014T092829Z
UID:10001568-1729369800-1729369800@thebowery.com
SUMMARY:The Bounty Hunters
DESCRIPTION:
URL:https://thebowery.com/event/the-bounty-hunters/2024-10-19/
LOCATION:The Bowery\, 110 9th Ave N\, Myrtle Beach\, 29577\, United States
ATTACH;FMTTYPE=image/jpeg:https://thebowery.com/wp-content/uploads/2024/10/BH-PROMO-6-scaled.jpg
END:VEVENT
BEGIN:VEVENT
DTSTART;TZID=America/New_York:20241018T203000
DTEND;TZID=America/New_York:20241018T203000
DTSTAMP:20260420T161553
CREATED:20241014T085720Z
LAST-MODIFIED:20241014T092829Z
UID:10001567-1729283400-1729283400@thebowery.com
SUMMARY:The Bounty Hunters
DESCRIPTION:
URL:https://thebowery.com/event/the-bounty-hunters/2024-10-18/
LOCATION:The Bowery\, 110 9th Ave N\, Myrtle Beach\, 29577\, United States
ATTACH;FMTTYPE=image/jpeg:https://thebowery.com/wp-content/uploads/2024/10/BH-PROMO-6-scaled.jpg
END:VEVENT
BEGIN:VEVENT
DTSTART;TZID=America/New_York:20241017T203000
DTEND;TZID=America/New_York:20241017T203000
DTSTAMP:20260420T161553
CREATED:20241014T094630Z
LAST-MODIFIED:20241014T094834Z
UID:10001566-1729197000-1729197000@thebowery.com
SUMMARY:The Bounty Hunters
DESCRIPTION:
URL:https://thebowery.com/event/the-bounty-hunters-4/2024-10-17/
LOCATION:The Bowery\, 110 9th Ave N\, Myrtle Beach\, 29577\, United States
ATTACH;FMTTYPE=image/jpeg:https://thebowery.com/wp-content/uploads/2024/10/BH-PROMO-6-scaled.jpg
END:VEVENT
END:VCALENDAR