BEGIN:VCALENDAR
VERSION:2.0
PRODID:-//The Bowery - ECPv6.15.20//NONSGML v1.0//EN
CALSCALE:GREGORIAN
METHOD:PUBLISH
X-WR-CALNAME:The Bowery
X-ORIGINAL-URL:https://thebowery.com
X-WR-CALDESC:Events for The Bowery
REFRESH-INTERVAL;VALUE=DURATION:PT1H
X-Robots-Tag:noindex
X-PUBLISHED-TTL:PT1H
BEGIN:VTIMEZONE
TZID:America/New_York
BEGIN:DAYLIGHT
TZOFFSETFROM:-0500
TZOFFSETTO:-0400
TZNAME:EDT
DTSTART:20240310T070000
END:DAYLIGHT
BEGIN:STANDARD
TZOFFSETFROM:-0400
TZOFFSETTO:-0500
TZNAME:EST
DTSTART:20241103T060000
END:STANDARD
BEGIN:DAYLIGHT
TZOFFSETFROM:-0500
TZOFFSETTO:-0400
TZNAME:EDT
DTSTART:20250309T070000
END:DAYLIGHT
BEGIN:STANDARD
TZOFFSETFROM:-0400
TZOFFSETTO:-0500
TZNAME:EST
DTSTART:20251102T060000
END:STANDARD
BEGIN:DAYLIGHT
TZOFFSETFROM:-0500
TZOFFSETTO:-0400
TZNAME:EDT
DTSTART:20260308T070000
END:DAYLIGHT
BEGIN:STANDARD
TZOFFSETFROM:-0400
TZOFFSETTO:-0500
TZNAME:EST
DTSTART:20261101T060000
END:STANDARD
END:VTIMEZONE
BEGIN:VEVENT
DTSTART;TZID=America/New_York:20250910T203000
DTEND;TZID=America/New_York:20250910T203000
DTSTAMP:20260420T214452
CREATED:20250306T213550Z
LAST-MODIFIED:20251010T060459Z
UID:10001798-1757536200-1757536200@thebowery.com
SUMMARY:The Bounty Hunters
DESCRIPTION:
URL:https://thebowery.com/event/the-bounty-hunters-5-2/2025-09-10/
LOCATION:The Bowery\, 110 9th Ave N\, Myrtle Beach\, 29577\, United States
ATTACH;FMTTYPE=image/jpeg:https://thebowery.com/wp-content/uploads/2024/10/BH-PROMO-6-scaled.jpg
END:VEVENT
BEGIN:VEVENT
DTSTART;TZID=America/New_York:20250911T203000
DTEND;TZID=America/New_York:20250911T203000
DTSTAMP:20260420T214452
CREATED:20250306T213550Z
LAST-MODIFIED:20251010T060459Z
UID:10001799-1757622600-1757622600@thebowery.com
SUMMARY:The Bounty Hunters
DESCRIPTION:
URL:https://thebowery.com/event/the-bounty-hunters-5-2/2025-09-11/
LOCATION:The Bowery\, 110 9th Ave N\, Myrtle Beach\, 29577\, United States
ATTACH;FMTTYPE=image/jpeg:https://thebowery.com/wp-content/uploads/2024/10/BH-PROMO-6-scaled.jpg
END:VEVENT
BEGIN:VEVENT
DTSTART;TZID=America/New_York:20250912T203000
DTEND;TZID=America/New_York:20250912T203000
DTSTAMP:20260420T214452
CREATED:20250306T213550Z
LAST-MODIFIED:20251010T060459Z
UID:10001800-1757709000-1757709000@thebowery.com
SUMMARY:The Bounty Hunters
DESCRIPTION:
URL:https://thebowery.com/event/the-bounty-hunters-5-2/2025-09-12/
LOCATION:The Bowery\, 110 9th Ave N\, Myrtle Beach\, 29577\, United States
ATTACH;FMTTYPE=image/jpeg:https://thebowery.com/wp-content/uploads/2024/10/BH-PROMO-6-scaled.jpg
END:VEVENT
BEGIN:VEVENT
DTSTART;TZID=America/New_York:20250913T203000
DTEND;TZID=America/New_York:20250913T203000
DTSTAMP:20260420T214452
CREATED:20250306T213550Z
LAST-MODIFIED:20251010T060459Z
UID:10001801-1757795400-1757795400@thebowery.com
SUMMARY:The Bounty Hunters
DESCRIPTION:
URL:https://thebowery.com/event/the-bounty-hunters-5-2/2025-09-13/
LOCATION:The Bowery\, 110 9th Ave N\, Myrtle Beach\, 29577\, United States
ATTACH;FMTTYPE=image/jpeg:https://thebowery.com/wp-content/uploads/2024/10/BH-PROMO-6-scaled.jpg
END:VEVENT
BEGIN:VEVENT
DTSTART;TZID=America/New_York:20250915T203000
DTEND;TZID=America/New_York:20250915T203000
DTSTAMP:20260420T214452
CREATED:20250306T213550Z
LAST-MODIFIED:20251010T060459Z
UID:10001802-1757968200-1757968200@thebowery.com
SUMMARY:The Bounty Hunters
DESCRIPTION:
URL:https://thebowery.com/event/the-bounty-hunters-5-2/2025-09-15/
LOCATION:The Bowery\, 110 9th Ave N\, Myrtle Beach\, 29577\, United States
ATTACH;FMTTYPE=image/jpeg:https://thebowery.com/wp-content/uploads/2024/10/BH-PROMO-6-scaled.jpg
END:VEVENT
BEGIN:VEVENT
DTSTART;TZID=America/New_York:20250916T203000
DTEND;TZID=America/New_York:20250916T203000
DTSTAMP:20260420T214452
CREATED:20250306T213550Z
LAST-MODIFIED:20251010T060459Z
UID:10001803-1758054600-1758054600@thebowery.com
SUMMARY:The Bounty Hunters
DESCRIPTION:
URL:https://thebowery.com/event/the-bounty-hunters-5-2/2025-09-16/
LOCATION:The Bowery\, 110 9th Ave N\, Myrtle Beach\, 29577\, United States
ATTACH;FMTTYPE=image/jpeg:https://thebowery.com/wp-content/uploads/2024/10/BH-PROMO-6-scaled.jpg
END:VEVENT
BEGIN:VEVENT
DTSTART;TZID=America/New_York:20250917T203000
DTEND;TZID=America/New_York:20250917T203000
DTSTAMP:20260420T214452
CREATED:20250306T213550Z
LAST-MODIFIED:20251010T060459Z
UID:10001804-1758141000-1758141000@thebowery.com
SUMMARY:The Bounty Hunters
DESCRIPTION:
URL:https://thebowery.com/event/the-bounty-hunters-5-2/2025-09-17/
LOCATION:The Bowery\, 110 9th Ave N\, Myrtle Beach\, 29577\, United States
ATTACH;FMTTYPE=image/jpeg:https://thebowery.com/wp-content/uploads/2024/10/BH-PROMO-6-scaled.jpg
END:VEVENT
BEGIN:VEVENT
DTSTART;TZID=America/New_York:20250918T203000
DTEND;TZID=America/New_York:20250918T203000
DTSTAMP:20260420T214452
CREATED:20250306T213550Z
LAST-MODIFIED:20251010T060459Z
UID:10001805-1758227400-1758227400@thebowery.com
SUMMARY:The Bounty Hunters
DESCRIPTION:
URL:https://thebowery.com/event/the-bounty-hunters-5-2/2025-09-18/
LOCATION:The Bowery\, 110 9th Ave N\, Myrtle Beach\, 29577\, United States
ATTACH;FMTTYPE=image/jpeg:https://thebowery.com/wp-content/uploads/2024/10/BH-PROMO-6-scaled.jpg
END:VEVENT
BEGIN:VEVENT
DTSTART;TZID=America/New_York:20250919T203000
DTEND;TZID=America/New_York:20250919T203000
DTSTAMP:20260420T214452
CREATED:20250306T213550Z
LAST-MODIFIED:20251010T060459Z
UID:10001806-1758313800-1758313800@thebowery.com
SUMMARY:The Bounty Hunters
DESCRIPTION:
URL:https://thebowery.com/event/the-bounty-hunters-5-2/2025-09-19/
LOCATION:The Bowery\, 110 9th Ave N\, Myrtle Beach\, 29577\, United States
ATTACH;FMTTYPE=image/jpeg:https://thebowery.com/wp-content/uploads/2024/10/BH-PROMO-6-scaled.jpg
END:VEVENT
BEGIN:VEVENT
DTSTART;TZID=America/New_York:20250920T203000
DTEND;TZID=America/New_York:20250920T203000
DTSTAMP:20260420T214452
CREATED:20250306T213550Z
LAST-MODIFIED:20251010T060459Z
UID:10001807-1758400200-1758400200@thebowery.com
SUMMARY:The Bounty Hunters
DESCRIPTION:
URL:https://thebowery.com/event/the-bounty-hunters-5-2/2025-09-20/
LOCATION:The Bowery\, 110 9th Ave N\, Myrtle Beach\, 29577\, United States
ATTACH;FMTTYPE=image/jpeg:https://thebowery.com/wp-content/uploads/2024/10/BH-PROMO-6-scaled.jpg
END:VEVENT
BEGIN:VEVENT
DTSTART;TZID=America/New_York:20250922T203000
DTEND;TZID=America/New_York:20250922T203000
DTSTAMP:20260420T214452
CREATED:20250306T213550Z
LAST-MODIFIED:20251010T060459Z
UID:10001808-1758573000-1758573000@thebowery.com
SUMMARY:The Bounty Hunters
DESCRIPTION:
URL:https://thebowery.com/event/the-bounty-hunters-5-2/2025-09-22/
LOCATION:The Bowery\, 110 9th Ave N\, Myrtle Beach\, 29577\, United States
ATTACH;FMTTYPE=image/jpeg:https://thebowery.com/wp-content/uploads/2024/10/BH-PROMO-6-scaled.jpg
END:VEVENT
BEGIN:VEVENT
DTSTART;TZID=America/New_York:20250923T203000
DTEND;TZID=America/New_York:20250923T203000
DTSTAMP:20260420T214452
CREATED:20250306T213550Z
LAST-MODIFIED:20251010T060459Z
UID:10001809-1758659400-1758659400@thebowery.com
SUMMARY:The Bounty Hunters
DESCRIPTION:
URL:https://thebowery.com/event/the-bounty-hunters-5-2/2025-09-23/
LOCATION:The Bowery\, 110 9th Ave N\, Myrtle Beach\, 29577\, United States
ATTACH;FMTTYPE=image/jpeg:https://thebowery.com/wp-content/uploads/2024/10/BH-PROMO-6-scaled.jpg
END:VEVENT
BEGIN:VEVENT
DTSTART;TZID=America/New_York:20250924T203000
DTEND;TZID=America/New_York:20250924T203000
DTSTAMP:20260420T214452
CREATED:20250306T213550Z
LAST-MODIFIED:20251010T060459Z
UID:10001810-1758745800-1758745800@thebowery.com
SUMMARY:The Bounty Hunters
DESCRIPTION:
URL:https://thebowery.com/event/the-bounty-hunters-5-2/2025-09-24/
LOCATION:The Bowery\, 110 9th Ave N\, Myrtle Beach\, 29577\, United States
ATTACH;FMTTYPE=image/jpeg:https://thebowery.com/wp-content/uploads/2024/10/BH-PROMO-6-scaled.jpg
END:VEVENT
BEGIN:VEVENT
DTSTART;TZID=America/New_York:20250925T203000
DTEND;TZID=America/New_York:20250925T203000
DTSTAMP:20260420T214452
CREATED:20250306T213550Z
LAST-MODIFIED:20251010T060459Z
UID:10001811-1758832200-1758832200@thebowery.com
SUMMARY:The Bounty Hunters
DESCRIPTION:
URL:https://thebowery.com/event/the-bounty-hunters-5-2/2025-09-25/
LOCATION:The Bowery\, 110 9th Ave N\, Myrtle Beach\, 29577\, United States
ATTACH;FMTTYPE=image/jpeg:https://thebowery.com/wp-content/uploads/2024/10/BH-PROMO-6-scaled.jpg
END:VEVENT
BEGIN:VEVENT
DTSTART;TZID=America/New_York:20250926T203000
DTEND;TZID=America/New_York:20250926T203000
DTSTAMP:20260420T214452
CREATED:20250306T213550Z
LAST-MODIFIED:20251010T060459Z
UID:10001812-1758918600-1758918600@thebowery.com
SUMMARY:The Bounty Hunters
DESCRIPTION:
URL:https://thebowery.com/event/the-bounty-hunters-5-2/2025-09-26/
LOCATION:The Bowery\, 110 9th Ave N\, Myrtle Beach\, 29577\, United States
ATTACH;FMTTYPE=image/jpeg:https://thebowery.com/wp-content/uploads/2024/10/BH-PROMO-6-scaled.jpg
END:VEVENT
BEGIN:VEVENT
DTSTART;TZID=America/New_York:20250927T203000
DTEND;TZID=America/New_York:20250927T203000
DTSTAMP:20260420T214452
CREATED:20250306T213550Z
LAST-MODIFIED:20251010T060459Z
UID:10001813-1759005000-1759005000@thebowery.com
SUMMARY:The Bounty Hunters
DESCRIPTION:
URL:https://thebowery.com/event/the-bounty-hunters-5-2/2025-09-27/
LOCATION:The Bowery\, 110 9th Ave N\, Myrtle Beach\, 29577\, United States
ATTACH;FMTTYPE=image/jpeg:https://thebowery.com/wp-content/uploads/2024/10/BH-PROMO-6-scaled.jpg
END:VEVENT
BEGIN:VEVENT
DTSTART;TZID=America/New_York:20250929T203000
DTEND;TZID=America/New_York:20250929T203000
DTSTAMP:20260420T214452
CREATED:20250306T213550Z
LAST-MODIFIED:20251010T060459Z
UID:10001814-1759177800-1759177800@thebowery.com
SUMMARY:The Bounty Hunters
DESCRIPTION:
URL:https://thebowery.com/event/the-bounty-hunters-5-2/2025-09-29/
LOCATION:The Bowery\, 110 9th Ave N\, Myrtle Beach\, 29577\, United States
ATTACH;FMTTYPE=image/jpeg:https://thebowery.com/wp-content/uploads/2024/10/BH-PROMO-6-scaled.jpg
END:VEVENT
BEGIN:VEVENT
DTSTART;TZID=America/New_York:20250930T203000
DTEND;TZID=America/New_York:20250930T203000
DTSTAMP:20260420T214452
CREATED:20250306T213550Z
LAST-MODIFIED:20251010T060459Z
UID:10001815-1759264200-1759264200@thebowery.com
SUMMARY:The Bounty Hunters
DESCRIPTION:
URL:https://thebowery.com/event/the-bounty-hunters-5-2/2025-09-30/
LOCATION:The Bowery\, 110 9th Ave N\, Myrtle Beach\, 29577\, United States
ATTACH;FMTTYPE=image/jpeg:https://thebowery.com/wp-content/uploads/2024/10/BH-PROMO-6-scaled.jpg
END:VEVENT
BEGIN:VEVENT
DTSTART;TZID=America/New_York:20251001T203000
DTEND;TZID=America/New_York:20251001T203000
DTSTAMP:20260420T214452
CREATED:20250306T213550Z
LAST-MODIFIED:20251010T060459Z
UID:10001816-1759350600-1759350600@thebowery.com
SUMMARY:The Bounty Hunters
DESCRIPTION:
URL:https://thebowery.com/event/the-bounty-hunters-5-2/2025-10-01/
LOCATION:The Bowery\, 110 9th Ave N\, Myrtle Beach\, 29577\, United States
ATTACH;FMTTYPE=image/jpeg:https://thebowery.com/wp-content/uploads/2024/10/BH-PROMO-6-scaled.jpg
END:VEVENT
BEGIN:VEVENT
DTSTART;TZID=America/New_York:20251002T203000
DTEND;TZID=America/New_York:20251002T203000
DTSTAMP:20260420T214452
CREATED:20250306T213550Z
LAST-MODIFIED:20251010T060459Z
UID:10001817-1759437000-1759437000@thebowery.com
SUMMARY:The Bounty Hunters
DESCRIPTION:
URL:https://thebowery.com/event/the-bounty-hunters-5-2/2025-10-02/
LOCATION:The Bowery\, 110 9th Ave N\, Myrtle Beach\, 29577\, United States
ATTACH;FMTTYPE=image/jpeg:https://thebowery.com/wp-content/uploads/2024/10/BH-PROMO-6-scaled.jpg
END:VEVENT
BEGIN:VEVENT
DTSTART;TZID=America/New_York:20251003T203000
DTEND;TZID=America/New_York:20251003T203000
DTSTAMP:20260420T214452
CREATED:20250306T213550Z
LAST-MODIFIED:20251010T060459Z
UID:10001818-1759523400-1759523400@thebowery.com
SUMMARY:The Bounty Hunters
DESCRIPTION:
URL:https://thebowery.com/event/the-bounty-hunters-5-2/2025-10-03/
LOCATION:The Bowery\, 110 9th Ave N\, Myrtle Beach\, 29577\, United States
ATTACH;FMTTYPE=image/jpeg:https://thebowery.com/wp-content/uploads/2024/10/BH-PROMO-6-scaled.jpg
END:VEVENT
BEGIN:VEVENT
DTSTART;TZID=America/New_York:20251004T203000
DTEND;TZID=America/New_York:20251004T203000
DTSTAMP:20260420T214452
CREATED:20250306T213550Z
LAST-MODIFIED:20251010T060459Z
UID:10001819-1759609800-1759609800@thebowery.com
SUMMARY:The Bounty Hunters
DESCRIPTION:
URL:https://thebowery.com/event/the-bounty-hunters-5-2/2025-10-04/
LOCATION:The Bowery\, 110 9th Ave N\, Myrtle Beach\, 29577\, United States
ATTACH;FMTTYPE=image/jpeg:https://thebowery.com/wp-content/uploads/2024/10/BH-PROMO-6-scaled.jpg
END:VEVENT
BEGIN:VEVENT
DTSTART;TZID=America/New_York:20251006T203000
DTEND;TZID=America/New_York:20251006T203000
DTSTAMP:20260420T214452
CREATED:20250306T213550Z
LAST-MODIFIED:20251010T060459Z
UID:10001820-1759782600-1759782600@thebowery.com
SUMMARY:The Bounty Hunters
DESCRIPTION:
URL:https://thebowery.com/event/the-bounty-hunters-5-2/2025-10-06/
LOCATION:The Bowery\, 110 9th Ave N\, Myrtle Beach\, 29577\, United States
ATTACH;FMTTYPE=image/jpeg:https://thebowery.com/wp-content/uploads/2024/10/BH-PROMO-6-scaled.jpg
END:VEVENT
BEGIN:VEVENT
DTSTART;TZID=America/New_York:20251007T203000
DTEND;TZID=America/New_York:20251007T203000
DTSTAMP:20260420T214452
CREATED:20250306T213550Z
LAST-MODIFIED:20251010T060459Z
UID:10001850-1759869000-1759869000@thebowery.com
SUMMARY:The Bounty Hunters
DESCRIPTION:
URL:https://thebowery.com/event/the-bounty-hunters-5-2/2025-10-07/
LOCATION:The Bowery\, 110 9th Ave N\, Myrtle Beach\, 29577\, United States
ATTACH;FMTTYPE=image/jpeg:https://thebowery.com/wp-content/uploads/2024/10/BH-PROMO-6-scaled.jpg
END:VEVENT
BEGIN:VEVENT
DTSTART;TZID=America/New_York:20251008T203000
DTEND;TZID=America/New_York:20251008T203000
DTSTAMP:20260420T214452
CREATED:20250306T213550Z
LAST-MODIFIED:20251010T060459Z
UID:10001851-1759955400-1759955400@thebowery.com
SUMMARY:The Bounty Hunters
DESCRIPTION:
URL:https://thebowery.com/event/the-bounty-hunters-5-2/2025-10-08/
LOCATION:The Bowery\, 110 9th Ave N\, Myrtle Beach\, 29577\, United States
ATTACH;FMTTYPE=image/jpeg:https://thebowery.com/wp-content/uploads/2024/10/BH-PROMO-6-scaled.jpg
END:VEVENT
BEGIN:VEVENT
DTSTART;TZID=America/New_York:20251009T203000
DTEND;TZID=America/New_York:20251009T203000
DTSTAMP:20260420T214452
CREATED:20250306T213550Z
LAST-MODIFIED:20251010T060459Z
UID:10001852-1760041800-1760041800@thebowery.com
SUMMARY:The Bounty Hunters
DESCRIPTION:
URL:https://thebowery.com/event/the-bounty-hunters-5-2/2025-10-09/
LOCATION:The Bowery\, 110 9th Ave N\, Myrtle Beach\, 29577\, United States
ATTACH;FMTTYPE=image/jpeg:https://thebowery.com/wp-content/uploads/2024/10/BH-PROMO-6-scaled.jpg
END:VEVENT
BEGIN:VEVENT
DTSTART;TZID=America/New_York:20251010T203000
DTEND;TZID=America/New_York:20251010T203000
DTSTAMP:20260420T214452
CREATED:20250306T213550Z
LAST-MODIFIED:20251010T060459Z
UID:10001853-1760128200-1760128200@thebowery.com
SUMMARY:The Bounty Hunters
DESCRIPTION:
URL:https://thebowery.com/event/the-bounty-hunters-5-2/2025-10-10/
LOCATION:The Bowery\, 110 9th Ave N\, Myrtle Beach\, 29577\, United States
ATTACH;FMTTYPE=image/jpeg:https://thebowery.com/wp-content/uploads/2024/10/BH-PROMO-6-scaled.jpg
END:VEVENT
BEGIN:VEVENT
DTSTART;TZID=America/New_York:20251011T203000
DTEND;TZID=America/New_York:20251011T203000
DTSTAMP:20260420T214452
CREATED:20250306T213550Z
LAST-MODIFIED:20251010T060459Z
UID:10001854-1760214600-1760214600@thebowery.com
SUMMARY:The Bounty Hunters
DESCRIPTION:
URL:https://thebowery.com/event/the-bounty-hunters-5-2/2025-10-11/
LOCATION:The Bowery\, 110 9th Ave N\, Myrtle Beach\, 29577\, United States
ATTACH;FMTTYPE=image/jpeg:https://thebowery.com/wp-content/uploads/2024/10/BH-PROMO-6-scaled.jpg
END:VEVENT
BEGIN:VEVENT
DTSTART;TZID=America/New_York:20251013T203000
DTEND;TZID=America/New_York:20251013T203000
DTSTAMP:20260420T214452
CREATED:20250306T213550Z
LAST-MODIFIED:20251010T060459Z
UID:10001855-1760387400-1760387400@thebowery.com
SUMMARY:The Bounty Hunters
DESCRIPTION:
URL:https://thebowery.com/event/the-bounty-hunters-5-2/2025-10-13/
LOCATION:The Bowery\, 110 9th Ave N\, Myrtle Beach\, 29577\, United States
ATTACH;FMTTYPE=image/jpeg:https://thebowery.com/wp-content/uploads/2024/10/BH-PROMO-6-scaled.jpg
END:VEVENT
BEGIN:VEVENT
DTSTART;TZID=America/New_York:20251023T203000
DTEND;TZID=America/New_York:20251024T013000
DTSTAMP:20260420T214452
CREATED:20251020T002834Z
LAST-MODIFIED:20251020T002834Z
UID:10001857-1761251400-1761269400@thebowery.com
SUMMARY:The Bounty Hunters
DESCRIPTION:
URL:https://thebowery.com/event/the-bounty-hunters-10/2025-10-23/
LOCATION:The Bowery\, 110 9th Ave N\, Myrtle Beach\, 29577\, United States
ATTACH;FMTTYPE=image/jpeg:https://thebowery.com/wp-content/uploads/2024/10/BH-PROMO-6-scaled.jpg
END:VEVENT
END:VCALENDAR