BEGIN:VCALENDAR
VERSION:2.0
PRODID:-//The Bowery - ECPv6.15.20//NONSGML v1.0//EN
CALSCALE:GREGORIAN
METHOD:PUBLISH
X-WR-CALNAME:The Bowery
X-ORIGINAL-URL:https://thebowery.com
X-WR-CALDESC:Events for The Bowery
REFRESH-INTERVAL;VALUE=DURATION:PT1H
X-Robots-Tag:noindex
X-PUBLISHED-TTL:PT1H
BEGIN:VTIMEZONE
TZID:America/New_York
BEGIN:DAYLIGHT
TZOFFSETFROM:-0500
TZOFFSETTO:-0400
TZNAME:EDT
DTSTART:20240310T070000
END:DAYLIGHT
BEGIN:STANDARD
TZOFFSETFROM:-0400
TZOFFSETTO:-0500
TZNAME:EST
DTSTART:20241103T060000
END:STANDARD
BEGIN:DAYLIGHT
TZOFFSETFROM:-0500
TZOFFSETTO:-0400
TZNAME:EDT
DTSTART:20250309T070000
END:DAYLIGHT
BEGIN:STANDARD
TZOFFSETFROM:-0400
TZOFFSETTO:-0500
TZNAME:EST
DTSTART:20251102T060000
END:STANDARD
BEGIN:DAYLIGHT
TZOFFSETFROM:-0500
TZOFFSETTO:-0400
TZNAME:EDT
DTSTART:20260308T070000
END:DAYLIGHT
BEGIN:STANDARD
TZOFFSETFROM:-0400
TZOFFSETTO:-0500
TZNAME:EST
DTSTART:20261101T060000
END:STANDARD
END:VTIMEZONE
BEGIN:VEVENT
DTSTART;TZID=America/New_York:20250608T130000
DTEND;TZID=America/New_York:20250608T130000
DTSTAMP:20260420T135312
CREATED:20250605T120223Z
LAST-MODIFIED:20250605T120223Z
UID:10001838-1749387600-1749387600@thebowery.com
SUMMARY:Coley Williams
DESCRIPTION:
URL:https://thebowery.com/event/coley-williams-4/
LOCATION:The Bowery\, 110 9th Ave N\, Myrtle Beach\, 29577\, United States
END:VEVENT
BEGIN:VEVENT
DTSTART;TZID=America/New_York:20250608T180000
DTEND;TZID=America/New_York:20250608T180000
DTSTAMP:20260420T135312
CREATED:20250605T120224Z
LAST-MODIFIED:20250605T120224Z
UID:10001840-1749405600-1749405600@thebowery.com
SUMMARY:Dalton Davis
DESCRIPTION:
URL:https://thebowery.com/event/dalton-davis-3/
LOCATION:The Bowery\, 110 9th Ave N\, Myrtle Beach\, 29577\, United States
END:VEVENT
BEGIN:VEVENT
DTSTART;TZID=America/New_York:20250608T200000
DTEND;TZID=America/New_York:20250608T200000
DTSTAMP:20260420T135312
CREATED:20250605T120224Z
LAST-MODIFIED:20250605T120224Z
UID:10001841-1749412800-1749412800@thebowery.com
SUMMARY:The Bounty Hunters
DESCRIPTION:
URL:https://thebowery.com/event/the-bounty-hunters-9/
LOCATION:The Bowery\, 110 9th Ave N\, Myrtle Beach\, 29577\, United States
END:VEVENT
BEGIN:VEVENT
DTSTART;TZID=America/New_York:20250608T233000
DTEND;TZID=America/New_York:20250609T013000
DTSTAMP:20260420T135312
CREATED:20250605T120224Z
LAST-MODIFIED:20250607T171807Z
UID:10001842-1749425400-1749432600@thebowery.com
SUMMARY:Jack Wharf Band
DESCRIPTION:👉 Buy Tickets Now
URL:https://thebowery.com/event/jack-wharf-band/
LOCATION:The Bowery\, 110 9th Ave N\, Myrtle Beach\, 29577\, United States
ATTACH;FMTTYPE=image/webp:https://thebowery.com/wp-content/uploads/2025/06/Jack-Wharff-The-Tobacco-Flatts-1024x683-1.webp
END:VEVENT
END:VCALENDAR