BEGIN:VCALENDAR
VERSION:2.0
PRODID:-//The Bowery - ECPv6.15.20//NONSGML v1.0//EN
CALSCALE:GREGORIAN
METHOD:PUBLISH
X-WR-CALNAME:The Bowery
X-ORIGINAL-URL:https://thebowery.com
X-WR-CALDESC:Events for The Bowery
REFRESH-INTERVAL;VALUE=DURATION:PT1H
X-Robots-Tag:noindex
X-PUBLISHED-TTL:PT1H
BEGIN:VTIMEZONE
TZID:America/New_York
BEGIN:DAYLIGHT
TZOFFSETFROM:-0500
TZOFFSETTO:-0400
TZNAME:EDT
DTSTART:20240310T070000
END:DAYLIGHT
BEGIN:STANDARD
TZOFFSETFROM:-0400
TZOFFSETTO:-0500
TZNAME:EST
DTSTART:20241103T060000
END:STANDARD
BEGIN:DAYLIGHT
TZOFFSETFROM:-0500
TZOFFSETTO:-0400
TZNAME:EDT
DTSTART:20250309T070000
END:DAYLIGHT
BEGIN:STANDARD
TZOFFSETFROM:-0400
TZOFFSETTO:-0500
TZNAME:EST
DTSTART:20251102T060000
END:STANDARD
BEGIN:DAYLIGHT
TZOFFSETFROM:-0500
TZOFFSETTO:-0400
TZNAME:EDT
DTSTART:20260308T070000
END:DAYLIGHT
BEGIN:STANDARD
TZOFFSETFROM:-0400
TZOFFSETTO:-0500
TZNAME:EST
DTSTART:20261101T060000
END:STANDARD
END:VTIMEZONE
BEGIN:VEVENT
DTSTART;TZID=America/New_York:20250605T180000
DTEND;TZID=America/New_York:20250605T190000
DTSTAMP:20260420T135310
CREATED:20250605T120219Z
LAST-MODIFIED:20250605T120219Z
UID:10001829-1749146400-1749150000@thebowery.com
SUMMARY:Dalton Hicks
DESCRIPTION:
URL:https://thebowery.com/event/dalton-hicks-3/
LOCATION:The Bowery\, 110 9th Ave N\, Myrtle Beach\, 29577\, United States
END:VEVENT
BEGIN:VEVENT
DTSTART;TZID=America/New_York:20250605T200000
DTEND;TZID=America/New_York:20250605T220000
DTSTAMP:20260420T135310
CREATED:20250605T120219Z
LAST-MODIFIED:20250605T120219Z
UID:10001830-1749153600-1749160800@thebowery.com
SUMMARY:The Bounty Hunters
DESCRIPTION:
URL:https://thebowery.com/event/the-bounty-hunters-6/
LOCATION:The Bowery\, 110 9th Ave N\, Myrtle Beach\, 29577\, United States
END:VEVENT
BEGIN:VEVENT
DTSTART;TZID=America/New_York:20250606T000000
DTEND;TZID=America/New_York:20250606T000000
DTSTAMP:20260420T135310
CREATED:20250605T120219Z
LAST-MODIFIED:20250605T121954Z
UID:10001831-1749168000-1749168000@thebowery.com
SUMMARY:Thomas Edwards
DESCRIPTION:👉 Buy Tickets Now
URL:https://thebowery.com/event/thomas-edwards/
LOCATION:The Bowery\, 110 9th Ave N\, Myrtle Beach\, 29577\, United States
ATTACH;FMTTYPE=image/jpeg:https://thebowery.com/wp-content/uploads/2025/06/0035_ThomasEdwards_PhotographerThomasCrabtree_Apr172024-2560x1440-1.jpg
END:VEVENT
END:VCALENDAR